BEGIN:VCALENDAR
VERSION:2.0
PRODID:-//ChamberMaster//Event Calendar 2.0//EN
METHOD:PUBLISH
X-PUBLISHED-TTL:P3D
REFRESH-INTERVAL:P3D
CALSCALE:GREGORIAN
BEGIN:VEVENT
DTSTART:20241204T223000Z
DTEND:20241205T000000Z
X-MICROSOFT-CDO-ALLDAYEVENT:FALSE
SUMMARY:CABA's After 5 at Glory Days Grill by Coral Senior Care Consultants
DESCRIPTION:Join host\, Samantha Lefebvre us at this networking which provides a perfect ending to your Wednesday workday when you will meet business owners and CABA members for B2B networking. Refreshments will be provided.\n\n\n\nThank you to our cohosts Tina Spinks (Spinks Law Firm)\, Lee Pierson (The Bank of Tampa)\, and Bobby Sparks (Glory Days Grill).
X-ALT-DESC;FMTTYPE=text/html:<span style="font-size:18px\;">Join host\, Samantha Lefebvre us at this networking which provides a perfect ending to your Wednesday workday when you will meet business owners and CABA members for B2B networking.</span><font face="arial"><span style="font-size: 18px\; white-space-collapse: preserve\;"> Refreshments will be provided.<br />\n<br />\nThank you to our cohosts Tina Spinks (<a href="https://business.usecaba.com/list/member/spinks-law-firm-38901853">Spinks Law Firm</a>)\, Lee Pierson (<a href="https://business.usecaba.com/list/member/the-bank-of-tampa-north-tampa-6159172">The Bank of Tampa</a>)\, and Bobby Sparks (<a href="https://business.usecaba.com/list/member/glory-days-grill-16822425">Glory Days Grill</a>).</span></font>
LOCATION:LOCATION: Glory Days Grill 14457 N. Dale Mabry Hwy. Tampa\, FL 33618
UID:e.9368.790074
SEQUENCE:3
DTSTAMP:20260421T035606Z
URL:http://usecabafl.memberzone.com/events/details/caba-s-after-5-at-glory-days-grill-by-coral-senior-care-consultants-790074
END:VEVENT

END:VCALENDAR
