BEGIN:VCALENDAR
VERSION:2.0
PRODID:-//ChamberMaster//Event Calendar 2.0//EN
METHOD:PUBLISH
X-PUBLISHED-TTL:P3D
REFRESH-INTERVAL:P3D
CALSCALE:GREGORIAN
BEGIN:VEVENT
DTSTART:20240529T213000Z
DTEND:20240529T230000Z
X-MICROSOFT-CDO-ALLDAYEVENT:FALSE
SUMMARY:CABA's After 5 at GiGi's Playhouse Tampa-Down Syndrome Achievement Center
DESCRIPTION:Join host\, Amanda Bucalo\, at this networking which provides a perfect ending to your Wednesday workday when you will meet business owners and CABA members for B2B networking. Refreshments will be provided.\n\n\n\nThank you to our cohosts Jennifer Perrella of Fortitude Preparatory Academy\, Nelva Rasalan of The Peach Cobbler Factory of Citrus Park\, and Andrea Bigus-Garcia of Plasterminds.
X-ALT-DESC;FMTTYPE=text/html:<span style="font-size:18px\;">Join host\, Amanda Bucalo\, at this networking which provides a perfect ending to your Wednesday workday when you will meet business owners and CABA members for B2B networking.</span><font face="arial"><span style="font-size: 18px\; white-space-collapse: preserve\;"> Refreshments will be provided.<br />\n<br />\nThank you to our cohosts Jennifer Perrella of <a href="https://business.usecaba.com/list/member/fortitude-preparatory-academy-38902070">Fortitude Preparatory Academy</a>\, Nelva Rasalan of <a href="https://business.usecaba.com/list/member/the-peach-cobbler-factory-of-citrus-park-38902031">The Peach Cobbler Factory of Citrus Park</a>\, and Andrea Bigus-Garcia of <a href="https://business.usecaba.com/list/member/plasterminds-38902113">Plasterminds</a>.</span></font><br />\n<br />\n&nbsp\;
LOCATION:Gi'Gi's Playhouse Tampa-Down Syndrome Achievement Center 3611 W. Hillsborough Ave.\, Suite 200 Tampa\, FL 33614
UID:e.9368.789964
SEQUENCE:3
DTSTAMP:20260421T210347Z
URL:http://usecabafl.memberzone.com/events/details/caba-s-after-5-at-gigi-s-playhouse-tampa-down-syndrome-achievement-center-789964
END:VEVENT

END:VCALENDAR
