BEGIN:VCALENDAR
VERSION:2.0
PRODID:-//ChamberMaster//Event Calendar 2.0//EN
METHOD:PUBLISH
X-PUBLISHED-TTL:P3D
REFRESH-INTERVAL:P3D
CALSCALE:GREGORIAN
BEGIN:VEVENT
DTSTART:20260617T213000Z
DTEND:20260617T230000Z
X-MICROSOFT-CDO-ALLDAYEVENT:FALSE
SUMMARY:CABA's After 5 at Curry Leaves Indian Cuisine
DESCRIPTION:Are you ready to network after work? Join host Saji Matthew at this CABA After 5 networking that provides a perfect ending to your Wednesday workday when you will meet business owners and CABA members for B2B networking.\n\nThank you to our cohosts\, Viraj Amarasisnghe (Make It Viral Media & Tech)\, Jason Sulisufay (Suli Law)\, and Billy Sinagridis (Orama Business Solutions).
X-ALT-DESC;FMTTYPE=text/html:<span id="docs-internal-guid-6cb829b5-7fff-5d4d-3802-1fd1a312e954"><span style="background-color: transparent\; font-variant-numeric: normal\; font-variant-east-asian: normal\; vertical-align: baseline\;"><font color="#000000" face="Arial"><span style="font-size: 18px\; white-space-collapse: preserve\;">Are you ready to network after work? Join host Saji Matthew </span></font></span></span><span style="background-color: transparent\; font-variant-numeric: normal\; font-variant-east-asian: normal\; vertical-align: baseline\;"><font color="#000000" face="Arial"><span style="font-size: 18px\; white-space-collapse: preserve\;">at this CABA After 5 networking that provides a perfect ending to your Wednesday workday when you will meet business owners and CABA members for B2B networking.<br />\nThank you to our cohosts\, Viraj Amarasisnghe (Make It Viral Media &amp\; Tech)\, Jason Sulisufay (Suli Law)\, and Billy Sinagridis (Orama Business Solutions).</span></font></span><br />\n&nbsp\;
LOCATION:Curry Leaves Indian Cuisine 204 Westshore Plaza Tampa\, FL 33609
UID:e.9368.790333
SEQUENCE:3
DTSTAMP:20260420T001647Z
URL:http://usecabafl.memberzone.com/events/details/caba-s-after-5-at-curry-leaves-indian-cuisine-790333
END:VEVENT

END:VCALENDAR
