BEGIN:VCALENDAR
VERSION:2.0
PRODID:-//ChamberMaster//Event Calendar 2.0//EN
METHOD:PUBLISH
X-PUBLISHED-TTL:P3D
REFRESH-INTERVAL:P3D
CALSCALE:GREGORIAN
BEGIN:VEVENT
DTSTART:20260603T213000Z
DTEND:20260603T230000Z
X-MICROSOFT-CDO-ALLDAYEVENT:FALSE
SUMMARY:CABA's After 5 at Complete Care Carrollwood
DESCRIPTION:Are you ready to network after work? Join host Suku Bulle at this CABA After 5 networking that provides a perfect ending to your Wednesday workday when you will meet business owners and CABA members for B2B networking.
X-ALT-DESC;FMTTYPE=text/html:<span id="docs-internal-guid-6cb829b5-7fff-5d4d-3802-1fd1a312e954"><span style="background-color: transparent\; font-variant-numeric: normal\; font-variant-east-asian: normal\; vertical-align: baseline\;"><font color="#000000" face="Arial"><span style="font-size: 18px\; white-space-collapse: preserve\;">Are you ready to network after work? Join host Suku Bulle </span></font></span></span><span style="background-color: transparent\; font-variant-numeric: normal\; font-variant-east-asian: normal\; vertical-align: baseline\;"><font color="#000000" face="Arial"><span style="font-size: 18px\; white-space-collapse: preserve\;">at this CABA After 5 networking that provides a perfect ending to your Wednesday workday when you will meet business owners and CABA members for B2B networking.</span></font></span>
LOCATION:Complete Care Carrollwood 3343 W. Fletcher Avenue Tampa\, FL 33618
UID:e.9368.790327
SEQUENCE:3
DTSTAMP:20260420T001635Z
URL:http://usecabafl.memberzone.com/events/details/caba-s-after-5-at-complete-care-carrollwood-790327
END:VEVENT

END:VCALENDAR
