BEGIN:VCALENDAR
VERSION:2.0
PRODID:-//ChamberMaster//Event Calendar 2.0//EN
METHOD:PUBLISH
X-PUBLISHED-TTL:P3D
REFRESH-INTERVAL:P3D
CALSCALE:GREGORIAN
BEGIN:VEVENT
DTSTART:20240110T223000Z
DTEND:20240111T000000Z
X-MICROSOFT-CDO-ALLDAYEVENT:FALSE
SUMMARY:CABA's After 5 at Classic Martial Arts
DESCRIPTION:Join host\, Marcel Weidenbacher at this networking which provides a perfect ending to your Wednesday workday when you will meet business owners and CABA members for B2B networking. Refreshments will be provided.\n\n\n\nThank you to our co-hosts\, Kayla Buckson with Abby's Health & Nutrition/Cafe' Eden\, Trey Lawson with Liquor Depot\, and Amanda Lopez with Picture Perfect Kitchen Designs.
X-ALT-DESC;FMTTYPE=text/html:<span style="font-size:18px\;">Join host\, Marcel Weidenbacher at this networking which provides a perfect ending to your Wednesday workday when you will meet business owners and CABA members for B2B networking.</span><font face="arial"><span style="font-size: 18px\; white-space-collapse: preserve\;"> Refreshments will be provided.</span><br />\n<br />\n<span style="font-size: 18px\; white-space-collapse: preserve\;">Thank you to our co-hosts\, Kayla Buckson with </span><a href="https://business.usecaba.com/list/member/abby-s-health-nutrition-caf%C3%A9-eden-38901807" style="font-size: 18px\; white-space-collapse: preserve\;">Abby&#39\;s Health &amp\; Nutrition/Cafe&#39\; </a><font color="#0782c1"><span style="font-size: 18px\; white-space-collapse: preserve\;"><u>Eden\,</u></span></font><span style="font-size: 18px\; white-space-collapse: preserve\;"> Trey Lawson with <a href="https://business.usecaba.com/list/member/liquor-depot-38901875">Liquor Depot</a>\, and Amanda Lopez with </span><a href="https://business.usecaba.com/list/member/picture-perfect-kitchen-designs-38901876" style="font-size: 18px\; white-space-collapse: preserve\;">Picture Perfect Kitchen Designs</a><span style="font-size: 18px\; white-space-collapse: preserve\;">.</span></font>
LOCATION:Classic Martial Arts 4540 W. Village Drive Tampa\, FL 33624
UID:e.9368.789970
SEQUENCE:3
DTSTAMP:20260422T042810Z
URL:http://usecabafl.memberzone.com/events/details/caba-s-after-5-at-classic-martial-arts-789970
END:VEVENT

END:VCALENDAR
