BEGIN:VCALENDAR
VERSION:2.0
PRODID:-//ChamberMaster//Event Calendar 2.0//EN
METHOD:PUBLISH
X-PUBLISHED-TTL:P3D
REFRESH-INTERVAL:P3D
CALSCALE:GREGORIAN
BEGIN:VEVENT
DTSTART:20250409T213000Z
DTEND:20250409T230000Z
X-MICROSOFT-CDO-ALLDAYEVENT:FALSE
SUMMARY:CABA's After 5 at Bliss Wellness Market
DESCRIPTION:Connect with fellow business owners and CABA members at our Wednesday evening networking event\, expertly hosted by Tiffany Martinez and Michael Maniscalco. Enjoy refreshments while expanding your professional network. We extend our gratitude to our co-hosts\, Lynnette Ramsey (eXp Realty) and Diane Jeremias (Hotworx Carrollwood)\, for their support. Learn more about the Carrollwood Area Business Association at https://www.usecaba.com/.
X-ALT-DESC;FMTTYPE=text/html:<span style="font-size:18px\;"><span style="font-family:arial\;"><span apple="" background-color:="" color="" font-size:="" segoe="" style="color: rgb(28\, 43\, 51)\; font-family: -apple-system\, BlinkMacSystemFont\, " ui="" white-space-collapse:="">Connect with fellow business owners and CABA members at our Wednesday evening networking event\, expertly hosted by Tiffany Martinez and Michael Maniscalco. Enjoy refreshments while expanding your professional network. We extend our gratitude to our co-hosts\, Lynnette Ramsey (eXp Realty) and Diane Jeremias (Hotworx Carrollwood)\, for their support. Learn more about the Carrollwood Area Business Association at https://www.usecaba.com/.</span></span></span><br />\n&nbsp\;
LOCATION:Bliss Wellness Market 13721 N. Dale Mabry Hwy. Tampa\, FL 33618
UID:e.9368.790065
SEQUENCE:3
DTSTAMP:20260420T210850Z
URL:http://usecabafl.memberzone.com/events/details/caba-s-after-5-at-bliss-wellness-market-790065
END:VEVENT

END:VCALENDAR
