BEGIN:VCALENDAR
VERSION:2.0
PRODID:-//ChamberMaster//Event Calendar 2.0//EN
METHOD:PUBLISH
X-PUBLISHED-TTL:P3D
REFRESH-INTERVAL:P3D
CALSCALE:GREGORIAN
BEGIN:VEVENT
DTSTART:20240619T213000Z
DTEND:20240619T230000Z
X-MICROSOFT-CDO-ALLDAYEVENT:FALSE
SUMMARY:CABA's After 5 at Black Rock Bar & Grill
DESCRIPTION:Join host Craig Pickard at this networking which provides a perfect ending to your Wednesday workday when you will meet business owners and CABA members for B2B networking. Refreshments will be provided.\n\nThank you to our cohosts\, Jonathan Simkins of Insect IQ\, Rob Cunningham with ADT Security\, Dr. Amy Carpenter of Alchemy Wellness and Acupuncture\, and Eden Nastal of Live and Play Tampa Bay
X-ALT-DESC;FMTTYPE=text/html:<span style="font-size:18px\;">Join host Craig Pickard at this networking which provides a perfect ending to your Wednesday workday when you will meet business owners and CABA members for B2B networking.</span><font face="arial"><span style="font-size: 18px\; white-space-collapse: preserve\;"> Refreshments will be provided.<br />\nThank you to our cohosts\, </span></font><span style="font-family:arial\;"><span style="font-size:18px\;"><span style="color: rgb(36\, 36\, 36)\;">Jonathan Simkins of <a href="https://business.usecaba.com/list/member/insect-iq-38901819">Insect IQ</a>\,&nbsp\;</span></span></span><span style="font-size: 18px\; font-family: arial\; color: rgb(36\, 36\, 36)\;">Rob Cunningham with <a href="https://business.usecaba.com/list/member/adt-security-6158824">ADT Security</a>\, Dr. Amy Carpenter of&nbsp\;</span><span style="font-size: 18px\; font-family: arial\; color: rgb(36\, 36\, 36)\;"><a href="https://business.usecaba.com/list/member/alchemy-wellness-acupuncture-38902117">Alchemy Wellness and Acupuncture</a>\, and&nbsp\;</span><span style="font-size: 18px\; font-family: arial\; color: rgb(36\, 36\, 36)\;">Eden Nastal of <a href="https://business.usecaba.com/list/member/live-and-play-tampa-bay-38901910">Live and Play Tampa Bay</a></span><br />\n&nbsp\;
LOCATION:Black Rock Bar & Grill 11702 N. Dale Mabry Hwy. Tampa\, FL 33618
UID:e.9368.790021
SEQUENCE:3
DTSTAMP:20260421T193120Z
URL:http://usecabafl.memberzone.com/events/details/caba-s-after-5-at-black-rock-bar-grill-790021
END:VEVENT

END:VCALENDAR
