BEGIN:VCALENDAR
VERSION:2.0
PRODID:-//ChamberMaster//Event Calendar 2.0//EN
METHOD:PUBLISH
X-PUBLISHED-TTL:P3D
REFRESH-INTERVAL:P3D
CALSCALE:GREGORIAN
BEGIN:VEVENT
DTSTART:20230823T213000Z
DTEND:20230823T230000Z
X-MICROSOFT-CDO-ALLDAYEVENT:FALSE
SUMMARY:CABA's After 5 at BDC Candle Bar
DESCRIPTION:Join host\, Bill Owen at our CABA After 5 free networking which provides a perfect ending to your Wednesday workday when you will meet business owners and CABA members for B2B networking over drinks and refreshments.  Guests are welcome to attend two weekly CABA events before being asked to join. For more information\, or to join CABA\, go to www.usecaba.com.\n\n\n\nThank you to our co-hosts Amanda Lopez of Picture Perfect Kitchen Designs and Hali Marsocci of Lucas\, Macyszyn & Dyer Law Firm.
X-ALT-DESC;FMTTYPE=text/html:<span style="font-size: 18px\; white-space: pre-wrap\;">Join host\, Bill Owen at our CABA After 5 free networking which provides a perfect ending to your Wednesday workday when you will meet business owners and CABA members for B2B networking over drinks and refreshments.&nbsp\; Guests are welcome to attend two weekly CABA events before being asked to join. For more information\, or to join CABA\, go to </span><a href="https://usecaba.com/" style="font-size: 18px\; white-space: pre-wrap\;">www.usecaba.com</a><span style="font-size: 18px\; white-space: pre-wrap\;">.</span><br />\n<br />\n<span style="font-family:arial\;"><span style="font-size:18px\;"><span style="color: rgb(0\, 0\, 0)\; white-space: pre-wrap\;">Thank you to our co-hosts Amanda Lopez of <a href="https://business.usecaba.com/list/member/picture-perfect-kitchen-designs-38901876">Picture Perfect Kitchen Designs</a> and Hali Marsocci of <a href="https://business.usecaba.com/list/member/lucas-macyszyn-dyer-38901980">Lucas\, Macyszyn &amp\; Dyer</a> Law Firm.</span></span></span>
LOCATION:BDC Candle Bar 16930 Focus Loop in the Hub at Bexley Land O' Lakes\, FL 34638
UID:e.9368.789914
SEQUENCE:3
DTSTAMP:20260422T211323Z
URL:http://usecabafl.memberzone.com/events/details/caba-s-after-5-at-bdc-candle-bar-789914
END:VEVENT

END:VCALENDAR
