BEGIN:VCALENDAR
VERSION:2.0
PRODID:-//ChamberMaster//Event Calendar 2.0//EN
METHOD:PUBLISH
X-PUBLISHED-TTL:P3D
REFRESH-INTERVAL:P3D
CALSCALE:GREGORIAN
BEGIN:VEVENT
DTSTART:20240918T213000Z
DTEND:20240918T230000Z
X-MICROSOFT-CDO-ALLDAYEVENT:FALSE
SUMMARY:CABA's After 5 at Accurate Employer Solutions
DESCRIPTION:Join host\, Scott Holcomb at this networking which provides a perfect ending to your Wednesday workday when you will meet business owners and CABA members for B2B networking. Refreshments will be provided.\n\n\n\nThank you to our cohosts Ted Bociek (Carrollwood Roofing)\, Angela Kemmer (Tampa Wine Room)\, Mike Hancock (Hancock Injury Attorneys)\, and Christopher Drew (Bay Trust Financial\, Inc.).
X-ALT-DESC;FMTTYPE=text/html:<span style="font-size:18px\;">Join host\, Scott Holcomb at this networking which provides a perfect ending to your Wednesday workday when you will meet business owners and CABA members for B2B networking.</span><font face="arial"><span style="font-size: 18px\; white-space-collapse: preserve\;"> Refreshments will be provided.<br />\n<br />\nThank you to our cohosts Ted Bociek (<a href="https://business.usecaba.com/list/member/carrollwood-roofing-llc-38902043">Carrollwood Roofing</a>)\, Angela Kemmer (<a href="https://business.usecaba.com/list/member/tampa-wine-room-tampa-38902200">Tampa Wine Room</a>)\, Mike Hancock (<a href="https://business.usecaba.com/list/member/hancock-injury-attorneys-7715147">Hancock Injury Attorneys</a>)\, and Christopher Drew (<a href="https://business.usecaba.com/list/member/bay-trust-financial-inc-38902188">Bay Trust Financial\, Inc.</a>).</span></font>
LOCATION:Accurate Employer Solutions 14499 N. Dale Mabry Hwy.\, Suite 250 Tampa\, FL 33618
UID:e.9368.789992
SEQUENCE:3
DTSTAMP:20260421T140820Z
URL:http://usecabafl.memberzone.com/events/details/caba-s-after-5-at-accurate-employer-solutions-789992
END:VEVENT

END:VCALENDAR
