BEGIN:VCALENDAR
VERSION:2.0
PRODID:-//ChamberMaster//Event Calendar 2.0//EN
METHOD:PUBLISH
X-PUBLISHED-TTL:P3D
REFRESH-INTERVAL:P3D
CALSCALE:GREGORIAN
BEGIN:VEVENT
DTSTART:20240807T213000Z
DTEND:20240807T230000Z
X-MICROSOFT-CDO-ALLDAYEVENT:FALSE
SUMMARY:CABA's After 5 and Ribbon Cutting at Darden Functional Health
DESCRIPTION:Join host\, Tracy Green at this networking and ribbon cutting which provides a perfect ending to your Wednesday workday when you will meet business owners and CABA members for B2B networking. Refreshments will be provided.\n\nThank you to our cohost Debra Joy Peisner of CreativeFlow Jewelry Design & Repair.
X-ALT-DESC;FMTTYPE=text/html:<span style="font-size:18px\;">Join host\, Tracy Green at this networking and ribbon cutting which provides a perfect ending to your Wednesday workday when you will meet business owners and CABA members for B2B networking.</span><font face="arial"><span style="font-size: 18px\; white-space-collapse: preserve\;"> Refreshments will be provided.<br />\nThank you to our cohost Debra Joy Peisner of <a href="https://business.usecaba.com/list/member/creativeflow-jewelry-design-repair-38898973">CreativeFlow Jewelry Design &amp\; Repair</a>.</span></font>
LOCATION:Darden Functional Health 4919 Van Dyke Road Lutz\, FL 33558
UID:e.9368.789985
SEQUENCE:3
DTSTAMP:20260421T141233Z
URL:http://usecabafl.memberzone.com/events/details/caba-s-after-5-and-ribbon-cutting-at-darden-functional-health-789985
END:VEVENT

END:VCALENDAR
