BEGIN:VCALENDAR
VERSION:2.0
PRODID:-//ChamberMaster//Event Calendar 2.0//EN
METHOD:PUBLISH
X-PUBLISHED-TTL:P3D
REFRESH-INTERVAL:P3D
CALSCALE:GREGORIAN
BEGIN:VEVENT
DTSTART:20240207T223000Z
DTEND:20240208T000000Z
X-MICROSOFT-CDO-ALLDAYEVENT:FALSE
SUMMARY:CABA's After 5 and Ribbon Cutting at 1UP Entertainment + Social
DESCRIPTION:Join host\, Mica Segui at this networking and official ribbon cutting which provides a perfect ending to your Wednesday workday when you will meet business owners and CABA members for B2B networking. Refreshments will be provided.\n\nThank you to our co-hosts Rob Cunningham with ADT Security\, Jose Burgos with Spectrum\, Craig Pickard with Black Rock Bar and Grill\, and Kristen Kowall with Accent Imaging.
X-ALT-DESC;FMTTYPE=text/html:<span style="font-size:18px\;">Join host\, Mica Segui at this networking and official ribbon cutting which provides a perfect ending to your Wednesday workday when you will meet business owners and CABA members for B2B networking.</span><font face="arial"><span style="font-size: 18px\; white-space-collapse: preserve\;"> Refreshments will be provided.<br />\nThank you to our co-hosts <a href="https://business.usecaba.com/list/member/adt-security-6158824">Rob Cunningham with ADT Security</a>\, Jose Burgos with <a href="https://business.usecaba.com/list/member/spectrum-38901978">Spectrum</a>\, Craig Pickard with <a href="https://business.usecaba.com/list/member/black-rock-bar-and-grill-38902064">Black Rock Bar and Grill</a>\, and Kristen Kowall with <a href="https://business.usecaba.com/list/member/accent-imaging-38902051">Accent Imaging</a>.</span></font><br />\n&nbsp\;
LOCATION:1UP Entertainment + Social 11778 N. Dale Mabry Hwy. Tampa\, FL 33618
UID:e.9368.789956
SEQUENCE:3
DTSTAMP:20260422T024035Z
URL:http://usecabafl.memberzone.com/events/details/caba-s-after-5-and-ribbon-cutting-at-1up-entertainment-social-789956
END:VEVENT

END:VCALENDAR
