BEGIN:VCALENDAR
VERSION:2.0
PRODID:-//ChamberMaster//Event Calendar 2.0//EN
METHOD:PUBLISH
X-PUBLISHED-TTL:P3D
REFRESH-INTERVAL:P3D
CALSCALE:GREGORIAN
BEGIN:VEVENT
DTSTART:20250501T203000Z
DTEND:20250501T220000Z
X-MICROSOFT-CDO-ALLDAYEVENT:FALSE
SUMMARY:CABA Ribbon Cutting at Progressive Healthcare DPC
DESCRIPTION:COME JOIN us for a grand opening ribbon cutting!  Let's show our support for this new CABA member's business.
X-ALT-DESC;FMTTYPE=text/html:<span style="font-size:18px\;">COME JOIN us for a grand opening ribbon cutting!&nbsp\; Let&#39\;s show our support for this new CABA member&#39\;s business.&nbsp\;&nbsp\;</span>
LOCATION:Progressive Healthcare DPC 6577 Gunn Hwy Tampa\, FL 33625
UID:e.9368.790182
SEQUENCE:3
DTSTAMP:20260420T193647Z
URL:http://usecabafl.memberzone.com/events/details/caba-ribbon-cutting-at-progressive-healthcare-dpc-790182
END:VEVENT

END:VCALENDAR
