BEGIN:VCALENDAR
VERSION:2.0
PRODID:-//ChamberMaster//Event Calendar 2.0//EN
METHOD:PUBLISH
X-PUBLISHED-TTL:P3D
REFRESH-INTERVAL:P3D
CALSCALE:GREGORIAN
BEGIN:VEVENT
DTSTART:20241025T200000Z
DTEND:20241025T220000Z
X-MICROSOFT-CDO-ALLDAYEVENT:FALSE
SUMMARY:CABA Ribbon Cutting at Physical Therapy Now
DESCRIPTION:Are you ready to help us celebrate our CABA member's new location with a ribbon cutting? Come join in the celebration!
X-ALT-DESC;FMTTYPE=text/html:<p><span id="docs-internal-guid-6cb829b5-7fff-5d4d-3802-1fd1a312e954" style="font-family: Roboto\, sans-serif\; font-size: 18px\;"><span style="font-family: Arial\; color: rgb(0\, 0\, 0)\; background-color: transparent\; font-variant-numeric: normal\; font-variant-east-asian: normal\; vertical-align: baseline\; white-space: pre-wrap\;">Are you ready to </span></span><span id="docs-internal-guid-0970c969-7fff-bc62-bfd2-4384a4110844" style="font-family: Roboto\, sans-serif\; font-size: 18px\;"><span style="font-family: Arial\; color: rgb(0\, 0\, 0)\; background-color: transparent\; font-variant-numeric: normal\; font-variant-east-asian: normal\; vertical-align: baseline\; white-space: pre-wrap\;">help us celebrate our CABA member&#39\;s new location with a ribbon cutting? Come join in the celebration!</span></span></p>\n
LOCATION:Physical Therapy Now 12020 Anderson Road Tampa\, FL 33625
UID:e.9368.790084
SEQUENCE:3
DTSTAMP:20260421T123408Z
URL:http://usecabafl.memberzone.com/events/details/caba-ribbon-cutting-at-physical-therapy-now-790084
END:VEVENT

END:VCALENDAR
