BEGIN:VCALENDAR
VERSION:2.0
PRODID:-//ChamberMaster//Event Calendar 2.0//EN
METHOD:PUBLISH
X-PUBLISHED-TTL:P3D
REFRESH-INTERVAL:P3D
CALSCALE:GREGORIAN
BEGIN:VEVENT
DTSTART:20220428T180000Z
DTEND:20220428T190000Z
X-MICROSOFT-CDO-ALLDAYEVENT:FALSE
SUMMARY:CABA Ribbon Cutting at National Title Solutions
DESCRIPTION:Help us celebrate our new CABA member with a CABA RIBBON CUTTING at 2pm! CABA brings the ribbon and the scissors\, and we encourage you to bring yourselves and some guests to our FREE TO THE PUBLIC event.
X-ALT-DESC;FMTTYPE=text/html:<span style="font-size:18px\;">Help us celebrate our new CABA member with a CABA RIBBON CUTTING at 2pm! CABA brings the ribbon and the scissors\, and we encourage you to bring yourselves and some guests to our FREE TO THE PUBLIC event.&nbsp\;</span>
LOCATION:National Title Solutions 7819 N Dale Mabry Hwy Ste 114 Tampa\, FL 33614
UID:e.9368.789730
SEQUENCE:3
DTSTAMP:20260424T012428Z
URL:http://usecabafl.memberzone.com/events/details/caba-ribbon-cutting-at-national-title-solutions-789730
END:VEVENT

END:VCALENDAR
