BEGIN:VCALENDAR
VERSION:2.0
PRODID:-//ChamberMaster//Event Calendar 2.0//EN
METHOD:PUBLISH
X-PUBLISHED-TTL:P3D
REFRESH-INTERVAL:P3D
CALSCALE:GREGORIAN
BEGIN:VEVENT
DTSTART:20240831T143000Z
DTEND:20240831T160000Z
X-MICROSOFT-CDO-ALLDAYEVENT:FALSE
SUMMARY:CABA Ribbon Cutting at Lutz Whistle Stop Depot
DESCRIPTION:Calling all CABA members!  Come out and help us celebrate with Shira and Ryan Martin and other CABA members at this ribbon cutting ceremony!
X-ALT-DESC;FMTTYPE=text/html:<span style="color: rgb(0\, 0\, 0)\; font-family: arial\; font-size: 18px\;">Calling all CABA members!&nbsp\; Come out and help us celebrate with Shira and Ryan Martin and other CABA members at this ribbon cutting ceremony!&nbsp\;&nbsp\;</span>
LOCATION:Lutz Whistle Stop Depot 100 4th Avenue NW Lutz\, FL 33548
UID:e.9368.790059
SEQUENCE:3
DTSTAMP:20260421T193333Z
URL:http://usecabafl.memberzone.com/events/details/caba-ribbon-cutting-at-lutz-whistle-stop-depot-790059
END:VEVENT

END:VCALENDAR
