BEGIN:VCALENDAR
VERSION:2.0
PRODID:-//ChamberMaster//Event Calendar 2.0//EN
METHOD:PUBLISH
X-PUBLISHED-TTL:P3D
REFRESH-INTERVAL:P3D
CALSCALE:GREGORIAN
BEGIN:VEVENT
DTSTART:20250111T193000Z
DTEND:20250111T203000Z
X-MICROSOFT-CDO-ALLDAYEVENT:FALSE
SUMMARY:CABA Ribbon Cutting at Great Clips
DESCRIPTION:Come Help us celebrate with Lea Orchard and her employees at this CABA ribbon cutting ceremony!
X-ALT-DESC;FMTTYPE=text/html:<span font-size:="" helvetica="" id="docs-internal-guid-1a8d6c47-7fff-a699-9b34-489b38512d9f" segoe="" style="box-sizing: border-box\; outline: 0px\; font-family: Poppins\, sans-serif\; font-size: 18px\; background-color: rgb(255\, 255\, 255)\; color: rgb(50\, 49\, 48)\;" ui="" web="" west=""><span style="box-sizing: border-box\; outline: 0px\; color: rgb(0\, 0\, 0)\; background-color: transparent\; font-variant-numeric: normal\; font-variant-east-asian: normal\; vertical-align: baseline\; white-space-collapse: preserve\;">Come </span></span><span style="color: rgb(51\, 51\, 51)\; font-family: Poppins\, sans-serif\; font-size: 18px\; background-color: rgb(255\, 255\, 255)\;">Help us celebrate with Lea Orchard and her employees </span><span background-color:="" color:="" font-size:="" font-variant-east-asian:="" font-variant-numeric:="" helvetica="" segoe="" style="box-sizing: border-box\; color: rgb(51\, 51\, 51)\; font-family: Poppins\, sans-serif\; font-size: 18px\; background-color: rgb(255\, 255\, 255)\;" ui="" vertical-align:="" web="" west="" white-space:="">at this CABA ribbon cutting ceremony!</span>
LOCATION:Great Clips 7058 Waterset Blvd. Apollo Beach\, FL 33572
UID:e.9368.790125
SEQUENCE:3
DTSTAMP:20260421T022732Z
URL:http://usecabafl.memberzone.com/events/details/caba-ribbon-cutting-at-great-clips-790125
END:VEVENT

END:VCALENDAR
