BEGIN:VCALENDAR
VERSION:2.0
PRODID:-//ChamberMaster//Event Calendar 2.0//EN
METHOD:PUBLISH
X-PUBLISHED-TTL:P3D
REFRESH-INTERVAL:P3D
CALSCALE:GREGORIAN
BEGIN:VEVENT
DTSTART:20250522T210000Z
DTEND:20250523T000000Z
X-MICROSOFT-CDO-ALLDAYEVENT:FALSE
SUMMARY:CABA Ribbon Cutting at Cell Renew
DESCRIPTION:COME JOIN us for a grand opening ribbon cutting with Wendy Aguilar. Let's show our support for this new CABA member's business.   Light bites and cocktails will be served\, while you enjoy our new space\, mingle with our providers\, and enter to win prizes like complimentary lip filler\, facials\, and more! COCKTAIL ATTIRE IS SUGGESTED.
X-ALT-DESC;FMTTYPE=text/html:<span style="font-size:18px\;"><span style="font-family:arial\;">COME JOIN us for a grand opening ribbon cutting with Wendy Aguilar. Let&#39\;s show our support for this new CABA member&#39\;s business.&nbsp\; &nbsp\;<span style="color: rgb(36\, 36\, 36)\;">Light bites and cocktails will be served\, while you enjoy our new space\, mingle with our providers\, and enter to win prizes like complimentary lip filler\, facials\, and more! COCKTAIL ATTIRE IS SUGGESTED.</span></span></span>
LOCATION:Cell Renew 14499 N. Dale Mabry Hwy. Tampa\, FL 33618
UID:e.9368.790194
SEQUENCE:3
DTSTAMP:20260420T193600Z
URL:http://usecabafl.memberzone.com/events/details/caba-ribbon-cutting-at-cell-renew-05-22-2025-790194
END:VEVENT

END:VCALENDAR
