BEGIN:VCALENDAR
VERSION:2.0
PRODID:-//ChamberMaster//Event Calendar 2.0//EN
METHOD:PUBLISH
X-PUBLISHED-TTL:P3D
REFRESH-INTERVAL:P3D
CALSCALE:GREGORIAN
BEGIN:VEVENT
DTSTART:20251122T150000Z
DTEND:20251122T153000Z
X-MICROSOFT-CDO-ALLDAYEVENT:FALSE
SUMMARY:CABA Ribbon Cutting at Big Dan's Car Wash
DESCRIPTION:Join us in celebrating owner Cameron Weyher at this CABA Ribbon Cutting!  \n\nCABA will bring the ribbon and scissors   you just bring yourself (and a few friends!) for this exciting celebration of local business success.
X-ALT-DESC;FMTTYPE=text/html:<span style="font-size:18px\;"><span style="font-family:arial\;">Join us in celebrating <strong data-end="204" data-start="182">owner Cameron Weyher&nbsp\;</strong>at this&nbsp\;<strong data-end="236" data-start="212">CABA Ribbon Cutting!</strong> &#127872\;<br data-end="242" data-start="239" />\nCABA will bring the ribbon and scissors &mdash\; you just bring yourself (and a few friends!)&nbsp\;for this exciting celebration of local business success.</span></span>
LOCATION:Big Dan's Car Wash 3840 W. Fletcher Avenue Tampa\, FL 33618
UID:e.9368.790299
SEQUENCE:3
DTSTAMP:20260420T055203Z
URL:http://usecabafl.memberzone.com/events/details/caba-ribbon-cutting-at-big-dan-s-car-wash-790299
END:VEVENT

END:VCALENDAR
