BEGIN:VCALENDAR
VERSION:2.0
PRODID:-//ChamberMaster//Event Calendar 2.0//EN
METHOD:PUBLISH
X-PUBLISHED-TTL:P3D
REFRESH-INTERVAL:P3D
CALSCALE:GREGORIAN
BEGIN:VEVENT
DTSTART:20250307T213000Z
DTEND:20250307T230000Z
X-MICROSOFT-CDO-ALLDAYEVENT:FALSE
SUMMARY:CABA Ribbon Cutting and Grand Opening at The DRIPBaR Carrollwood
DESCRIPTION:Come help us celebrate with Angel Williams and her employees at this CABA grand opening and ribbon cutting ceremony!
X-ALT-DESC;FMTTYPE=text/html:<span font-size:="" helvetica="" id="docs-internal-guid-1a8d6c47-7fff-a699-9b34-489b38512d9f" segoe="" style="box-sizing: border-box\; outline: 0px\; font-family: Poppins\, sans-serif\; font-size: 18px\; background-color: rgb(255\, 255\, 255)\; color: rgb(50\, 49\, 48)\;" ui="" web="" west=""><span style="box-sizing: border-box\; outline: 0px\; color: rgb(0\, 0\, 0)\; background-color: transparent\; font-variant-numeric: normal\; font-variant-east-asian: normal\; vertical-align: baseline\; white-space-collapse: preserve\;">Come h</span></span><span style="color: rgb(51\, 51\, 51)\; font-family: Poppins\, sans-serif\; font-size: 18px\; background-color: rgb(255\, 255\, 255)\;">elp us celebrate with Angel Williams and her employees </span><span background-color:="" color:="" font-size:="" font-variant-east-asian:="" font-variant-numeric:="" helvetica="" segoe="" style="box-sizing: border-box\; color: rgb(51\, 51\, 51)\; font-family: Poppins\, sans-serif\; font-size: 18px\; background-color: rgb(255\, 255\, 255)\;" ui="" vertical-align:="" web="" west="" white-space:="">at this CABA grand opening and ribbon cutting ceremony!</span>
LOCATION:The DRIPBaR Carrollwood 10921 N. Dale Mabry Hwy. Tampa\, FL 33618
UID:e.9368.790139
SEQUENCE:3
DTSTAMP:20260421T005525Z
URL:http://usecabafl.memberzone.com/events/details/caba-ribbon-cutting-and-grand-opening-at-the-dripbar-carrollwood-790139
END:VEVENT

END:VCALENDAR
