BEGIN:VCALENDAR
VERSION:2.0
PRODID:-//ChamberMaster//Event Calendar 2.0//EN
METHOD:PUBLISH
X-PUBLISHED-TTL:P3D
REFRESH-INTERVAL:P3D
CALSCALE:GREGORIAN
BEGIN:VEVENT
DTSTART:20251002T153000Z
DTEND:20251002T173000Z
X-MICROSOFT-CDO-ALLDAYEVENT:FALSE
SUMMARY:CABA Power Lunch at Nazca Restaurant
DESCRIPTION:Are you ready to get your SPEED NETWORKING ON? Join us for an incredible event to meet your fellow CABA members all in one setting. The admission is $20 and that includes your meal and a non-alcoholic drink\, be a table sponsor for $40 and you stay at your decorated table\, and you get two minutes at the start to promote your business.   This event is for CABA MEMBERS ONLY!  Don't miss out on some great networking and register TODAY!!  YOU MUST REGISTER in advance to attend this fun\, high-energy event as there is limited seating.  Cost is $30/pp if you do not pre-register by Wednesday\, October 1\, 2025\, at noon.\n\n\n\nPlease note\, only one CABA representative per membership may attend power luncheons. Sponsors are limited to the first seven. Informal networking is held between 11:30 a.m. and 11:45 a.m.  Buffet lunch will be served between 11:45 a.m. and 12:00 p.m.\n\nSorry\, no refunds/credits for this event.
X-ALT-DESC;FMTTYPE=text/html:<span style="font-family:arial\;"><span style="font-size:18px\;"><span style="color: rgb(34\, 34\, 34)\;">Are you ready to get your SPEED NETWORKING ON? Join us for an incredible event to meet your fellow CABA&nbsp\;members all in one setting. The admission is $20 and that includes your meal and a non-alcoholic drink\, be a table sponsor for $40 and you stay at your decorated table\, and you get two minutes at the start to promote your business.&nbsp\; &nbsp\;This event is for </span><span style="color:#FF0000\;">CABA MEMBERS ONLY!&nbsp\;</span><span style="color: rgb(34\, 34\, 34)\;">&nbsp\;Don&#39\;t miss out on some great networking&nbsp\;</span><span style="color: rgb(34\, 34\, 34)\;">and register TODAY!!&nbsp\;&nbsp\;</span></span></span><span style="font-family: arial\; font-size: 18px\; background-color: rgb(255\, 255\, 255)\;">YOU MUST REGISTER in advance to attend this fun\, high-energy event as there is limited seating.&nbsp\;&nbsp\;</span><span style="font-family:arial\;"><span style="font-size:18px\;"><span style="color: rgb(34\, 34\, 34)\;">Cost is $30/pp if you do not pre-register by Wednesday\, October 1\, 2025\, at noon.</span></span></span><br />\n<br style="box-sizing: content-box\; inset: auto\; clear: none\; content: normal\; direction: inherit\; display: inline\; empty-cells: show\; float: none\; font-variant-numeric: inherit\; font-variant-east-asian: inherit\; font-stretch: inherit\; font-size: 16px\; font-family: Calibri\, Verdana\, Geneva\, sans-serif\; line-height: inherit\; margin: 0px\; max-height: none\; max-width: none\; min-height: initial\; min-width: initial\; opacity: 1\; outline-offset: 0px\; overflow: visible\; padding: 0px\; position: static\; resize: none\; table-layout: auto\; text-overflow: clip\; vertical-align: baseline\; visibility: inherit\; word-break: inherit\; overflow-wrap: inherit\; z-index: auto\; background-image: none\; background-position: initial\; background-size: initial\; background-repeat: initial\; background-attachment: initial\; background-origin: initial\; background-clip: initial\; border: none\; border-collapse: separate\; border-radius: 0px\; height: auto\; width: auto\;" />\n<span style="font-family: arial\;"><span style="font-size: 18px\;"><span style="color: rgb(255\, 0\, 0)\;"><span style="box-sizing: content-box\; inset: auto\; clear: none\; content: normal\; direction: inherit\; empty-cells: show\; font-variant-numeric: inherit\; font-variant-east-asian: inherit\; font-stretch: inherit\; line-height: inherit\; margin: 0px\; max-height: none\; max-width: none\; min-height: initial\; min-width: initial\; opacity: 1\; outline-offset: 0px\; overflow: visible\; padding: 0px\; position: static\; resize: none\; table-layout: auto\; text-overflow: clip\; vertical-align: baseline\; visibility: inherit\; word-break: inherit\; overflow-wrap: inherit\; z-index: auto\; background-image: none\; background-position: initial\; background-size: initial\; background-repeat: initial\; background-attachment: initial\; background-origin: initial\; background-clip: initial\; border: none\; border-collapse: separate\; border-radius: 0px\; height: auto\; width: auto\; box-shadow: none\;"><span style="box-sizing: content-box\; font-weight: bolder\; inset: auto\; clear: none\; content: normal\; direction: inherit\; empty-cells: show\; font-style: inherit\; font-variant: inherit\; font-stretch: inherit\; letter-spacing: inherit\; line-height: inherit\; margin: 0px\; max-height: none\; max-width: none\; min-height: initial\; min-width: initial\; opacity: 1\; outline-offset: 0px\; overflow: visible\; padding: 0px\; position: static\; resize: none\; table-layout: auto\; text-align: inherit\; text-indent: inherit\; text-overflow: clip\; text-transform: inherit\; vertical-align: baseline\; visibility: inherit\; white-space: inherit\; word-break: inherit\; word-spacing: inherit\; overflow-wrap: inherit\; z-index: auto\; background: none\; border: none\; border-collapse: separate\; border-radius: 0px\; height: auto\; width: auto\; box-shadow: none\;">Please note\, only one CABA representative per membership may attend power luncheons. Sponsors are limited to the first seven.&nbsp\;</span></span></span><span style="color: rgb(0\, 0\, 0)\;">Informal networking is held between 11:30 a.m. and 11:45 a.m.&nbsp\; Buffet lunch will be served between 11:45 a.m. and 12:00 p.m.</span></span></span><br />\n<span style="color: rgb(34\, 34\, 34)\; font-family: arial\; font-size: 18px\;">Sorry\, no refunds/credits for this event.</span>
LOCATION:Nazca Restaurant 10412 N. Dale Mabry Hwy Tampa\, FL 33618
UID:e.9368.790262
SEQUENCE:3
DTSTAMP:20260420T072144Z
URL:http://usecabafl.memberzone.com/events/details/caba-power-lunch-at-nazca-restaurant-790262
END:VEVENT

END:VCALENDAR
