BEGIN:VCALENDAR
VERSION:2.0
PRODID:-//ChamberMaster//Event Calendar 2.0//EN
METHOD:PUBLISH
X-PUBLISHED-TTL:P3D
REFRESH-INTERVAL:P3D
CALSCALE:GREGORIAN
BEGIN:VEVENT
DTSTART:20221208T163000Z
DTEND:20221208T180000Z
X-MICROSOFT-CDO-ALLDAYEVENT:FALSE
SUMMARY:CABA Power Lunch at Maple Street Biscuit Company
DESCRIPTION:Are you ready to get your SPEED NETWORKING ON? Join us December 8th from 11:30 a.m.-1:00 p.m. for an incredible event to meet all your fellow Caba members all in one setting. The admission is $20 and that includes your meal and a drink\, be a table sponsor for $45 and you stay at your decorated table\, and you get two minutes at the end to promote your business. If you show up the day of the event without registering online the admission will be $30. This event is for CABA MEMBERS ONLY! If you register now\, you will be in a drawing for a free power lunch coming up in February. Don't miss out on some great networking\, go to www.usecaba.com and register TODAY!!\n\nSorry\, no refunds/credits for this event.\n\n\n\nPlease note\, only one CABA representative per membership may attend power luncheons. Registrations are limited to the first 24 and table sponsors are limited to the first six.\n\n\n\nInformal networking is held between 11:30 AM and 11:45 AM.  Lunch will be served between 11:45 AM and 12:00 PM.
X-ALT-DESC;FMTTYPE=text/html:<div><span style="font-family:arial\;"><span style="font-size:18px\;"><span style="color: rgb(34\, 34\, 34)\;">Are you ready to get your SPEED NETWORKING ON? Join us December 8th from 11:30 a.m.-1:00 p.m. for an incredible event to meet all your fellow Caba members all in one setting. The admission is $20 and that includes your meal and a drink\, be a table sponsor for $45 and you stay at your decorated table\, and you get two minutes at the end to promote your business. If you show up the day of the event without registering online the admission will be $30. This event is for CABA MEMBERS ONLY! If you register now\, you will be in a drawing for a free power lunch coming up in February. Don&#39\;t miss out on some great networking\, go to&nbsp\;</span><a data-saferedirecturl="https://www.google.com/url?q=http://www.usecaba.com&amp\;source=gmail&amp\;ust=1668613677264000&amp\;usg=AOvVaw3Bh69NKnh2wU9NXy9j_4R5" href="http://www.usecaba.com/" style="color: rgb(17\, 85\, 204)\; font-family: sans-serif\; font-size: 12px\;" target="_blank">www.usecaba.com</a><span style="color: rgb(34\, 34\, 34)\;">&nbsp\;and register TODAY!!</span><br style="color: rgb(34\, 34\, 34)\; font-family: sans-serif\; font-size: 12px\;" />\n<span style="color: rgb(34\, 34\, 34)\;">Sorry\, no refunds/credits for this event.</span></span></span><br />\n<br style="box-sizing: content-box\; inset: auto\; clear: none\; content: normal\; direction: inherit\; display: inline\; empty-cells: show\; float: none\; font-variant-numeric: inherit\; font-variant-east-asian: inherit\; font-stretch: inherit\; font-size: 16px\; font-family: Calibri\, Verdana\, Geneva\, sans-serif\; line-height: inherit\; margin: 0px\; max-height: none\; max-width: none\; min-height: initial\; min-width: initial\; opacity: 1\; outline-offset: 0px\; overflow: visible\; padding: 0px\; position: static\; resize: none\; table-layout: auto\; text-overflow: clip\; vertical-align: baseline\; visibility: inherit\; word-break: inherit\; overflow-wrap: inherit\; z-index: auto\; background-image: none\; background-position: initial\; background-size: initial\; background-repeat: initial\; background-attachment: initial\; background-origin: initial\; background-clip: initial\; border: none\; border-collapse: separate\; border-radius: 0px\; height: auto\; width: auto\;" />\n<span style="font-family: arial\;"><span style="font-size: 18px\;"><span style="color: rgb(255\, 0\, 0)\;"><span style="box-sizing: content-box\; inset: auto\; clear: none\; content: normal\; direction: inherit\; empty-cells: show\; font-variant-numeric: inherit\; font-variant-east-asian: inherit\; font-stretch: inherit\; line-height: inherit\; margin: 0px\; max-height: none\; max-width: none\; min-height: initial\; min-width: initial\; opacity: 1\; outline-offset: 0px\; overflow: visible\; padding: 0px\; position: static\; resize: none\; table-layout: auto\; text-overflow: clip\; vertical-align: baseline\; visibility: inherit\; word-break: inherit\; overflow-wrap: inherit\; z-index: auto\; background-image: none\; background-position: initial\; background-size: initial\; background-repeat: initial\; background-attachment: initial\; background-origin: initial\; background-clip: initial\; border: none\; border-collapse: separate\; border-radius: 0px\; height: auto\; width: auto\; box-shadow: none\;"><span style="box-sizing: content-box\; font-weight: bolder\; inset: auto\; clear: none\; content: normal\; direction: inherit\; empty-cells: show\; font-style: inherit\; font-variant: inherit\; font-stretch: inherit\; letter-spacing: inherit\; line-height: inherit\; margin: 0px\; max-height: none\; max-width: none\; min-height: initial\; min-width: initial\; opacity: 1\; outline-offset: 0px\; overflow: visible\; padding: 0px\; position: static\; resize: none\; table-layout: auto\; text-align: inherit\; text-indent: inherit\; text-overflow: clip\; text-transform: inherit\; vertical-align: baseline\; visibility: inherit\; white-space: inherit\; word-break: inherit\; word-spacing: inherit\; overflow-wrap: inherit\; z-index: auto\; background: none\; border: none\; border-collapse: separate\; border-radius: 0px\; height: auto\; width: auto\; box-shadow: none\;">Please note\, only one CABA representative per membership may attend power luncheons. Registrations are limited to the first 24 and table sponsors are limited to the first six.</span></span></span><br />\n<br />\n<span style="color: rgb(0\, 0\, 0)\;">Informal networking is held between 11:30 AM and 11:45 AM.&nbsp\; Lunch will be served between 11:45 AM and 12:00 PM.</span></span></span></div>\n
LOCATION:Maple Street Biscuit Company 13028 N. Dale Mabry Hwy. Tampa\, FL 33618
UID:e.9368.789835
SEQUENCE:3
DTSTAMP:20260423T075529Z
URL:http://usecabafl.memberzone.com/events/details/caba-power-lunch-at-maple-street-biscuit-company-789835
END:VEVENT

END:VCALENDAR
