BEGIN:VCALENDAR
VERSION:2.0
PRODID:-//ChamberMaster//Event Calendar 2.0//EN
METHOD:PUBLISH
X-PUBLISHED-TTL:P3D
REFRESH-INTERVAL:P3D
CALSCALE:GREGORIAN
BEGIN:VEVENT
DTSTART:20260122T163000Z
DTEND:20260122T184500Z
X-MICROSOFT-CDO-ALLDAYEVENT:FALSE
SUMMARY:CABA Power Lunch at Everglazed Donuts
DESCRIPTION:Are you ready to get your SPEED NETWORKING ON? Join us for an incredible event to meet your fellow CABA members all in one setting. The admission is $20 and that includes your meal and a non-alcoholic drink\, be a table sponsor for $40 and you stay at your decorated table\, and you get two minutes at the start to promote your business.   This event is for CABA MEMBERS ONLY!  Don't miss out on some great networking and register TODAY!!  \n\nYOU MUST REGISTER in advance to attend this fun\, high-energy event as there is limited seating.  Cost is $30/pp if you do not pre-register by Wednesday\, January 21\, 2026\, at noon.\n\n\n\nPlease note\, only one CABA representative per membership may attend power luncheons. Sponsors are limited to the first seven. Informal networking is held between 11:30 a.m. and 11:45 a.m.  Buffet lunch will be served between 11:45 a.m. and 12:00 p.m. Sorry\, no refunds/credits for this event
X-ALT-DESC;FMTTYPE=text/html:<span style="font-size:18px\;">Are you ready to get your SPEED NETWORKING ON? Join us for an incredible event to meet your fellow CABA&nbsp\;members all in one setting. The admission is $20 and that includes your meal and a non-alcoholic drink\, be a table sponsor for $40 and you stay at your decorated table\, and you get two minutes at the start to promote your business.&nbsp\; &nbsp\;This event is for&nbsp\;CABA MEMBERS ONLY!&nbsp\;&nbsp\;Don&#39\;t miss out on some great networking&nbsp\;and register TODAY!!&nbsp\;&nbsp\;<br />\nYOU MUST REGISTER in advance to attend this fun\, high-energy event as there is limited seating.&nbsp\;&nbsp\;Cost is $30/pp if you do not pre-register by Wednesday\, January 21\, 2026\, at noon.<br />\n<br />\nPlease note\, only one CABA representative per membership may attend power luncheons. Sponsors are limited to the first seven.&nbsp\;Informal networking is held between 11:30 a.m. and 11:45 a.m.&nbsp\; Buffet lunch will be served between 11:45 a.m. and 12:00 p.m. Sorry\, no refunds/credits for this event</span>
LOCATION:
UID:e.9368.790305
SEQUENCE:3
DTSTAMP:20260420T020724Z
URL:http://usecabafl.memberzone.com/events/details/caba-power-lunch-at-everglazed-donuts-790305
END:VEVENT

END:VCALENDAR
