BEGIN:VCALENDAR
VERSION:2.0
PRODID:-//ChamberMaster//Event Calendar 2.0//EN
METHOD:PUBLISH
X-PUBLISHED-TTL:P3D
REFRESH-INTERVAL:P3D
CALSCALE:GREGORIAN
BEGIN:VEVENT
DTSTART:20250327T153000Z
DTEND:20250327T170000Z
X-MICROSOFT-CDO-ALLDAYEVENT:FALSE
SUMMARY:CABA Power Lunch at Brunchies Breakfast\, Brunch & Lunch
DESCRIPTION:Are you ready to get your SPEED NETWORKING ON? Join us for an incredible event to meet your fellow CABA members all in one setting. The admission is $20 and that includes your meal and a drink\, be a table sponsor for $40 and you stay at your decorated table\, and you get two minutes at the end to promote your business. This event is for CABA MEMBERS ONLY!  Don't miss out on some great networking and register TODAY!!  You must register in advance to attend this fun\, high-energy event as there is limited seating.  Sorry\, no refunds/credits for this event.\n\n\n\nPlease note\, only one CABA representative per membership may attend power luncheons. Sponsors are limited to the first six. Informal networking is held between 12:00 p.m. and 12:15 p.m.  Lunch will be served between 12:15 p.m. and 12:30 p.m.
X-ALT-DESC;FMTTYPE=text/html:<span style="font-family:arial\;"><span style="font-size:18px\;"><span style="color: rgb(34\, 34\, 34)\;">Are you ready to get your SPEED NETWORKING ON? Join us for an incredible event to meet your fellow CABA&nbsp\;members all in one setting. The admission is $20 and that includes your meal and a drink\, be a table sponsor for $40 and you stay at your decorated table\, and you get two minutes at the end to promote your business. This event is for </span><span style="color:#FF0000\;">CABA MEMBERS ONLY!&nbsp\;</span><span style="color: rgb(34\, 34\, 34)\;">&nbsp\;Don&#39\;t miss out on some great networking&nbsp\;</span><span style="color: rgb(34\, 34\, 34)\;">and register TODAY!!&nbsp\;&nbsp\;</span></span></span><span style="color: rgb(34\, 34\, 34)\; font-family: arial\; font-size: 18px\; background-color: rgb(255\, 255\, 255)\;">You must register in advance to attend this fun\, high-energy event as there is limited seating.&nbsp\;&nbsp\;</span><span style="font-family:arial\;"><span style="font-size:18px\;"><span style="color: rgb(34\, 34\, 34)\;">Sorry\, no refunds/credits for this event.</span></span></span><br />\n<br style="box-sizing: content-box\; inset: auto\; clear: none\; content: normal\; direction: inherit\; display: inline\; empty-cells: show\; float: none\; font-variant-numeric: inherit\; font-variant-east-asian: inherit\; font-stretch: inherit\; font-size: 16px\; font-family: Calibri\, Verdana\, Geneva\, sans-serif\; line-height: inherit\; margin: 0px\; max-height: none\; max-width: none\; min-height: initial\; min-width: initial\; opacity: 1\; outline-offset: 0px\; overflow: visible\; padding: 0px\; position: static\; resize: none\; table-layout: auto\; text-overflow: clip\; vertical-align: baseline\; visibility: inherit\; word-break: inherit\; overflow-wrap: inherit\; z-index: auto\; background-image: none\; background-position: initial\; background-size: initial\; background-repeat: initial\; background-attachment: initial\; background-origin: initial\; background-clip: initial\; border: none\; border-collapse: separate\; border-radius: 0px\; height: auto\; width: auto\;" />\n<span style="font-family: arial\;"><span style="font-size: 18px\;"><span style="color: rgb(255\, 0\, 0)\;"><span style="box-sizing: content-box\; inset: auto\; clear: none\; content: normal\; direction: inherit\; empty-cells: show\; font-variant-numeric: inherit\; font-variant-east-asian: inherit\; font-stretch: inherit\; line-height: inherit\; margin: 0px\; max-height: none\; max-width: none\; min-height: initial\; min-width: initial\; opacity: 1\; outline-offset: 0px\; overflow: visible\; padding: 0px\; position: static\; resize: none\; table-layout: auto\; text-overflow: clip\; vertical-align: baseline\; visibility: inherit\; word-break: inherit\; overflow-wrap: inherit\; z-index: auto\; background-image: none\; background-position: initial\; background-size: initial\; background-repeat: initial\; background-attachment: initial\; background-origin: initial\; background-clip: initial\; border: none\; border-collapse: separate\; border-radius: 0px\; height: auto\; width: auto\; box-shadow: none\;"><span style="box-sizing: content-box\; font-weight: bolder\; inset: auto\; clear: none\; content: normal\; direction: inherit\; empty-cells: show\; font-style: inherit\; font-variant: inherit\; font-stretch: inherit\; letter-spacing: inherit\; line-height: inherit\; margin: 0px\; max-height: none\; max-width: none\; min-height: initial\; min-width: initial\; opacity: 1\; outline-offset: 0px\; overflow: visible\; padding: 0px\; position: static\; resize: none\; table-layout: auto\; text-align: inherit\; text-indent: inherit\; text-overflow: clip\; text-transform: inherit\; vertical-align: baseline\; visibility: inherit\; white-space: inherit\; word-break: inherit\; word-spacing: inherit\; overflow-wrap: inherit\; z-index: auto\; background: none\; border: none\; border-collapse: separate\; border-radius: 0px\; height: auto\; width: auto\; box-shadow: none\;">Please note\, only one CABA representative per membership may attend power luncheons. Sponsors are limited to the first six.&nbsp\;</span></span></span><span style="color: rgb(0\, 0\, 0)\;">Informal networking is held between 12:00 p.m. and 12:15 p.m.&nbsp\; Lunch will be served between 12:15 p.m. and 12:30 p.m.</span></span></span>
LOCATION:Brunchies Breakfast\, Brunch & Lunch 14366 N. Dale Mabry Hwy Tampa\, FL 33618
UID:e.9368.790144
SEQUENCE:3
DTSTAMP:20260420T230614Z
URL:http://usecabafl.memberzone.com/events/details/caba-power-lunch-at-brunchies-breakfast-brunch-lunch-790144
END:VEVENT

END:VCALENDAR
