BEGIN:VCALENDAR
VERSION:2.0
PRODID:-//ChamberMaster//Event Calendar 2.0//EN
METHOD:PUBLISH
X-PUBLISHED-TTL:P3D
REFRESH-INTERVAL:P3D
CALSCALE:GREGORIAN
BEGIN:VEVENT
DTSTART:20240829T213000Z
DTEND:20240829T230000Z
X-MICROSOFT-CDO-ALLDAYEVENT:FALSE
SUMMARY:CABA New Member Mixer at Thomas P's Sports Bar and Patio
DESCRIPTION:Attention New Members! This is our mixer for members that joined CABA in Q2 of 2024. We will cover how to get the most out of your CABA membership. We will explain how to update your company profile to increase your visibility. We will have open networking and light finger foods will be provided.\n\n\n\nPlease register for this event and don't forget to bring your business cards as this is a great opportunity to introduce yourself to other CABA members.
X-ALT-DESC;FMTTYPE=text/html:<span style="font-family:arial\;"><span style="font-size:18px\;"><span style="color: rgb(36\, 36\, 36)\;">Attention New Members! This is our mixer for members that joined CABA in Q2 of 2024. We will cover how to get the most out of your CABA membership. We will explain how to update your company profile to increase your visibility. We will have open networking and light finger foods will be provided.</span><br />\n<br />\n<span style="color: rgb(36\, 36\, 36)\; background-color: rgb(255\, 255\, 255)\;">Please register for this event and don&#39\;t forget to bring your business cards as this is a great opportunity to introduce yourself to other CABA members.</span></span></span>
LOCATION:Thomas P's Sports Bar and Patio 12836 Henderson Road Tampa\, FL 33625
UID:e.9368.790048
SEQUENCE:3
DTSTAMP:20260421T141326Z
URL:http://usecabafl.memberzone.com/events/details/caba-new-member-mixer-at-thomas-p-s-sports-bar-and-patio-790048
END:VEVENT

END:VCALENDAR
