BEGIN:VCALENDAR
VERSION:2.0
PRODID:-//ChamberMaster//Event Calendar 2.0//EN
METHOD:PUBLISH
X-PUBLISHED-TTL:P3D
REFRESH-INTERVAL:P3D
CALSCALE:GREGORIAN
BEGIN:VEVENT
DTSTART:20260212T223000Z
DTEND:20260213T000000Z
X-MICROSOFT-CDO-ALLDAYEVENT:FALSE
SUMMARY:CABA New Member Mixer at Brooklyn Pizza Pasta & Grill
DESCRIPTION:ATTENTION new CABA members who have joined between October 2025 and now...YOU ARE INVITED to CABA's New Member Mixer!  Come meet other new members and learn more about the benefits of being a CABA member!  Please register so we can have a count for the food.
X-ALT-DESC;FMTTYPE=text/html:<span style="font-size:18px\;">ATTENTION new CABA members who have joined between October 2025 and now...YOU ARE INVITED to CABA&#39\;s New Member Mixer!&nbsp\; Come meet other new members and learn more about the benefits of being a CABA member!&nbsp\; Please register so we can have a count for the food.</span>
LOCATION:Brooklyn Pizza Pasta & Grill 3742 W. Lambright St. Tampa\, FL 33614
UID:e.9368.790325
SEQUENCE:3
DTSTAMP:20260420T021036Z
URL:http://usecabafl.memberzone.com/events/details/caba-new-member-mixer-at-brooklyn-pizza-pasta-grill-790325
END:VEVENT

END:VCALENDAR
