BEGIN:VCALENDAR
VERSION:2.0
PRODID:-//ChamberMaster//Event Calendar 2.0//EN
METHOD:PUBLISH
X-PUBLISHED-TTL:P3D
REFRESH-INTERVAL:P3D
CALSCALE:GREGORIAN
BEGIN:VEVENT
DTSTART:20250925T193000Z
DTEND:20250925T223000Z
X-MICROSOFT-CDO-ALLDAYEVENT:FALSE
SUMMARY:CABA Networking on the 9's at X-Golf in Trinity\, FL
DESCRIPTION:Join us for Networking on the 9's! Looking to network in a relaxed and fun environment? Enjoy an indoor golf experience out of the heat with teams of four\, all in comfort with air conditioning. Food and drinks will be available for purchase.  Come out\, swing some clubs\, and build valuable connections in a lively\, friendly atmosphere. Whether you're a seasoned golfer or just looking to meet new contacts\, this event is perfect for you! If you have clubs\, please bring them or you can rent at set as well.\n\n\n\nMust pre-register so reserve your spot today!  \nLocation is in Trinity\, FL so please plan accordingly for the drive time to the event.
X-ALT-DESC;FMTTYPE=text/html:<h3 style="color: rgb(51\, 51\, 51)\; font-family: Roboto\, sans-serif\; background-color: rgb(255\, 255\, 255)\;"><span style="font-size:18px\;"><span style="font-family:arial\;"><span style="color: rgb(36\, 36\, 36)\;">Join us for Networking on the 9&#39\;s!&nbsp\;Looking to network in a relaxed and fun environment? Enjoy an indoor golf experience out of the heat with teams of four\, all in comfort with air conditioning.&nbsp\;Food and drinks will be available for purchase.&nbsp\; Come out\, swing some clubs\, and build valuable connections in a lively\, friendly atmosphere. Whether you&#39\;re a seasoned golfer or just looking to meet new contacts\, this event is perfect for you! If you have clubs\, please bring them or you can rent at set as well.<br />\n<br />\n<u>Must pre-register</u> so reserve your spot today!&nbsp\;&nbsp\;</span></span></span></h3>\n<span style="color:#0000FF\;"><span style="font-size:18px\;"><span style="font-family:arial\;">Location is in Trinity\, FL so please plan accordingly for the drive time to the event.</span></span></span>
LOCATION:X-Golf 9050 Tryfon Blvd. Trinity\, FL 34655
UID:e.9368.790247
SEQUENCE:3
DTSTAMP:20260420T123256Z
URL:http://usecabafl.memberzone.com/events/details/caba-networking-on-the-9-s-at-x-golf-in-trinity-fl-790247
END:VEVENT

END:VCALENDAR
