BEGIN:VCALENDAR
VERSION:2.0
PRODID:-//ChamberMaster//Event Calendar 2.0//EN
METHOD:PUBLISH
X-PUBLISHED-TTL:P3D
REFRESH-INTERVAL:P3D
CALSCALE:GREGORIAN
BEGIN:VEVENT
DTSTART:20250424T191500Z
DTEND:20250424T230000Z
X-MICROSOFT-CDO-ALLDAYEVENT:FALSE
SUMMARY:CABA Networking on the 9's at Heritage Harbor Golf Club
DESCRIPTION:Come out and join other CABA members for an interactive event and networking while having a ton of fun! \nThis is a 9-hole scramble. Must arrive no later than 3:00 p.m. as the first T-time is 3:30 p.m. You do not need a partner. Networking will follow at Double Bogey's Tavern.  Please register if you are going to be attending this event.
X-ALT-DESC;FMTTYPE=text/html:<span style="font-size:18px\;"><span style="font-family:arial\;"><span id="docs-internal-guid-e71bbd21-7fff-8cd5-6907-4af91892b5ab"><span style="background-color: transparent\; font-variant-numeric: normal\; font-variant-east-asian: normal\; vertical-align: baseline\;"><font color="#000000" style=""><span style="white-space: pre-wrap\;">Come out and join other CABA members for an interactive event and networking while having a ton of fun! </span></font></span></span></span></span>\n<h3><span style="font-size:18px\;"><span style="font-family:arial\;"><font color="#222222">This is a 9-hole&nbsp\;scramble. Must arrive no later than 3:00 p.m. as the first T-time is 3:30 p.m. You do not need a partner.&nbsp\;Networking will follow at Double Bogey&#39\;s Tavern.&nbsp\;&nbsp\;</font></span></span><span style="color: rgb(0\, 0\, 0)\; font-family: arial\; font-size: 18px\; white-space-collapse: preserve\;">Please register if you are going to be attending this event.</span></h3>\n
LOCATION:Heritage Harbor Golf & Country Club 19502 Heritage Harbor Pkwy. Lutz\, FL 33558
UID:e.9368.790177
SEQUENCE:3
DTSTAMP:20260420T225111Z
URL:http://usecabafl.memberzone.com/events/details/caba-networking-on-the-9-s-at-heritage-harbor-golf-club-790177
END:VEVENT

END:VCALENDAR
