BEGIN:VCALENDAR
VERSION:2.0
PRODID:-//ChamberMaster//Event Calendar 2.0//EN
METHOD:PUBLISH
X-PUBLISHED-TTL:P3D
REFRESH-INTERVAL:P3D
CALSCALE:GREGORIAN
BEGIN:VEVENT
DTSTART:20250226T223000Z
DTEND:20250227T000000Z
X-MICROSOFT-CDO-ALLDAYEVENT:FALSE
SUMMARY:CABA Mardis Gras After 5 at BayFirst Financial by Integrity Business Resources
DESCRIPTION:Are you ready to network after work? Join host\, David Caraker for our Mardi Gras themed CABA After 5 FREE networking which provides a perfect ending to your Wednesday workday when you will meet business owners and CABA members for B2B networking.\n\nThank you to our cohosts Lisa Montero (BayFirst Financial)\, Edwin Pinzon (Accounting & Consulting Professionals)\, Natalie White (Natalie White Photography)\, and Rob Cunningham with ADT Security).
X-ALT-DESC;FMTTYPE=text/html:<span id="docs-internal-guid-6cb829b5-7fff-5d4d-3802-1fd1a312e954" style=""><span style="background-color: transparent\; font-variant-numeric: normal\; font-variant-east-asian: normal\; vertical-align: baseline\;"><font color="#000000" face="Arial"><span style="font-size: 18px\; white-space: pre-wrap\;">Are you ready to network after work? Join host\, David Caraker </span></font></span></span><span style="background-color: rgb(255\, 255\, 255)\; color: rgb(50\, 49\, 48)\; font-family: Poppins\, sans-serif\; font-size: 18px\;">for o</span><span style=""><span style="background-color: transparent\; font-variant-numeric: normal\; font-variant-east-asian: normal\; vertical-align: baseline\;"><font color="#000000" face="Arial"><span style="font-size: 18px\; white-space: pre-wrap\;">ur Mardi Gras themed CABA After 5 FREE networking which provides a perfect ending to your Wednesday workday when you will meet business owners and CABA members for B2B networking.<br />\nThank you to our cohosts Lisa Montero (BayFirst Financial)\, Edwin Pinzon (Accounting &amp\; Consulting Professionals)\, Natalie White (Natalie White Photography)\, and Rob Cunningham with ADT Security).</span></font></span></span>
LOCATION:LOCATION IS AT: BayFirst Financial 16002 N. Dale Mabry Hwy. Tampa\,FL 33618
UID:e.9368.790121
SEQUENCE:3
DTSTAMP:20260421T005333Z
URL:http://usecabafl.memberzone.com/events/details/caba-mardis-gras-after-5-at-bayfirst-financial-by-integrity-business-resources-790121
END:VEVENT

END:VCALENDAR
