BEGIN:VCALENDAR
VERSION:2.0
PRODID:-//ChamberMaster//Event Calendar 2.0//EN
METHOD:PUBLISH
X-PUBLISHED-TTL:P3D
REFRESH-INTERVAL:P3D
CALSCALE:GREGORIAN
BEGIN:VEVENT
DTSTART:20211215T223000Z
DTEND:20211216T010000Z
X-MICROSOFT-CDO-ALLDAYEVENT:FALSE
SUMMARY:CABA Holiday Party
DESCRIPTION:Save the date and join CABA for our annual Holiday Party!\n\n\n\nTickets to "A Very Nerdy Christmas" MOSI Science After Dark themed event will include unlimited beverages (Wine\, Water\, & Beer)\, live entertainment\, and catered food as well as fun experiments and all exhibits staffed. This is a great way to unwind\, connect with fellow CABA members\, and have fun!\n\n\n\nREGISTER HERE
X-ALT-DESC;FMTTYPE=text/html:<span style="font-size:18px\;">Save the date and join CABA for our annual Holiday Party!</span><br />\n<br />\n<span style="font-size:18px\;">Tickets to</span><span style="color: rgb(0\, 0\, 0)\; font-family: arial\, sans-serif\;">&nbsp\;&quot\;</span><span style="font-size:18px\;"><span style="color: rgb(0\, 0\, 0)\; font-family: arial\, sans-serif\;">A Very Nerdy Christmas&quot\;</span><span style="color: rgb(0\, 0\, 0)\; font-family: arial\, sans-serif\;">&nbsp\;MOSI Science After&nbsp\;</span><span style="color: rgb(34\, 34\, 34)\; font-family: Arial\, Helvetica\, sans-serif\;">Dark themed&nbsp\;</span><span style="color: rgb(0\, 0\, 0)\; font-family: arial\, sans-serif\;">event will include unlimited beverages (Wine\, Water\, &amp\; Beer)\, live entertainment\, and catered food as well as fun experiments and all exhibits staffed. This is a great way to unwind\, connect with fellow CABA members\, and have fun!</span><br />\n<br />\n<span style="font-family: arial\, sans-serif\;"><a href="https://usecaba.com/special-events/holiday-after-5/"><span style="color:#FF0000\;"><strong>REGISTER HERE</strong></span></a></span></span>
LOCATION:REGISTER HERE MOSI 4801 E. Fowler Avenue Tampa\, Florida 33617
UID:e.9368.789448
SEQUENCE:3
DTSTAMP:20260424T073916Z
URL:http://usecabafl.memberzone.com/events/details/caba-holiday-party-789448
END:VEVENT

END:VCALENDAR
