BEGIN:VCALENDAR
VERSION:2.0
PRODID:-//ChamberMaster//Event Calendar 2.0//EN
METHOD:PUBLISH
X-PUBLISHED-TTL:P3D
REFRESH-INTERVAL:P3D
CALSCALE:GREGORIAN
BEGIN:VEVENT
DTSTART:20261028T213000Z
DTEND:20261028T230000Z
X-MICROSOFT-CDO-ALLDAYEVENT:FALSE
SUMMARY:CABA Halloween After 5 at BayFirst Financial
DESCRIPTION:Come join in the fun with host Lisa Montero at BayFirst Financial for this CABA Halloween themed After 5.  Costumes are not required but encouraged :)\n\n\n\nThis is a great opportunity to meet business owners and CABA members for B2B networking.  Prizes will be given out.
X-ALT-DESC;FMTTYPE=text/html:<p><span style="font-family: Arial\; font-size: 18px\; color: rgb(0\, 0\, 0)\; background-color: transparent\; font-variant-numeric: normal\; font-variant-east-asian: normal\; vertical-align: baseline\; white-space: pre-wrap\;">Come join in the fun with host Lisa Montero at BayFirst Financial for this CABA Halloween themed After 5.</span><span style="color: rgb(0\, 0\, 0)\; font-family: Arial\; font-size: 18px\; white-space-collapse: preserve\;">&#8203\; Costumes are not required but encouraged :)<br />\n<br />\nThis </span><span style="color: rgb(0\, 0\, 0)\; font-family: Arial\; font-size: 18px\; white-space-collapse: preserve\;">is a great opportunity to meet business owners and CABA members for B2B networking. </span><span style="font-family: Arial\; font-size: 18px\; color: rgb(0\, 0\, 0)\; background-color: transparent\; font-variant-numeric: normal\; font-variant-east-asian: normal\; vertical-align: baseline\; white-space: pre-wrap\;"> Prizes will be given out. </span><br />\n&nbsp\;</p>\n
LOCATION:BayFirst Financial 16002 N. Dale Mabry Hwy. Tampa\, FL 233618
UID:e.9368.790214
SEQUENCE:3
DTSTAMP:20260420T072253Z
URL:http://usecabafl.memberzone.com/events/details/caba-halloween-after-5-at-bayfirst-financial-790214
END:VEVENT

END:VCALENDAR
