BEGIN:VCALENDAR
VERSION:2.0
PRODID:-//ChamberMaster//Event Calendar 2.0//EN
METHOD:PUBLISH
X-PUBLISHED-TTL:P3D
REFRESH-INTERVAL:P3D
CALSCALE:GREGORIAN
BEGIN:VEVENT
DTSTART:20251101T200000Z
DTEND:20251101T203000Z
X-MICROSOFT-CDO-ALLDAYEVENT:FALSE
SUMMARY:CABA Grand Opening and Ribbon Cutting at Smoothie King
DESCRIPTION:Help us celebrate this GRAND OPENING with a CABA RIBBON CUTTING!  Come out and celebrate the new Carrollwood location.  FREE smoothie samples (while supplies last).  Plus - Enter the raffle to win two Tampa Bay Buccaneers tickets by purchasing a $30 card or order two large smoothies.
X-ALT-DESC;FMTTYPE=text/html:<span style="font-size:18px\;">Help us celebrate this GRAND OPENING with a CABA RIBBON CUTTING!&nbsp\; Come out and celebrate the new Carrollwood location.&nbsp\; FREE smoothie samples (while supplies last).&nbsp\; Plus - Enter the raffle to win two Tampa Bay Buccaneers tickets by purchasing a $30 card or order two large smoothies.</span>
LOCATION:Smoothie King 13149 N. Dale Mabry Hwy Tampa\, FL 33618
UID:e.9368.790278
SEQUENCE:3
DTSTAMP:20260420T055435Z
URL:http://usecabafl.memberzone.com/events/details/caba-grand-opening-and-ribbon-cutting-at-smoothie-king-790278
END:VEVENT

END:VCALENDAR
