BEGIN:VCALENDAR
VERSION:2.0
PRODID:-//ChamberMaster//Event Calendar 2.0//EN
METHOD:PUBLISH
X-PUBLISHED-TTL:P3D
REFRESH-INTERVAL:P3D
CALSCALE:GREGORIAN
BEGIN:VEVENT
DTSTART:20251106T200000Z
DTEND:20251106T203000Z
X-MICROSOFT-CDO-ALLDAYEVENT:FALSE
SUMMARY:CABA Grand Opening and Ribbon Cutting at Seth Premier Medical
DESCRIPTION:Help us celebrate this GRAND OPENING with a CABA RIBBON CUTTING! Meet Dr. Rishi & Neera Seth\, explore our state-of-the-art practice and experience what sets concierge medicine apart - where access\, time\, and innovation come together for a truly premier patient experience.\n\n\n\nCABA brings the ribbon and the scissors\, and we encourage you to bring yourselves and some guests to our FREE TO THE PUBLIC event.
X-ALT-DESC;FMTTYPE=text/html:<span style="font-size:18px\;">Help us celebrate this GRAND OPENING with a CABA RIBBON CUTTING!&nbsp\;<span style="font-family:arial\;"><span style="color: rgb(36\, 36\, 36)\;">Meet Dr. Rishi &amp\; Neera Seth\, explore our state-of-the-art practice and experience what sets concierge medicine apart - where access\, time\, and innovation come together for a truly premier patient experience.</span></span><br />\n<br />\nCABA brings the ribbon and the scissors\,&nbsp\;and we encourage you to bring yourselves and some guests to our FREE TO THE PUBLIC event.&nbsp\;</span><br />\n&nbsp\;
LOCATION:Seth Premier Medical 3321 Bearss Avenue Tampa\, FL 33618
UID:e.9368.790277
SEQUENCE:3
DTSTAMP:20260420T055315Z
URL:http://usecabafl.memberzone.com/events/details/caba-grand-opening-and-ribbon-cutting-at-seth-premier-medical-790277
END:VEVENT

END:VCALENDAR
