BEGIN:VCALENDAR
VERSION:2.0
PRODID:-//ChamberMaster//Event Calendar 2.0//EN
METHOD:PUBLISH
X-PUBLISHED-TTL:P3D
REFRESH-INTERVAL:P3D
CALSCALE:GREGORIAN
BEGIN:VEVENT
DTSTART:20251110T223000Z
DTEND:20251110T224500Z
X-MICROSOFT-CDO-ALLDAYEVENT:FALSE
SUMMARY:CABA Grand Opening and Ribbon Cutting at Di namik Lagree Studios
DESCRIPTION:We're officially opening!   Join us for the Grand Opening & Ribbon Cutting at D ' namik Lagree Studios. We are thrilled to bring the FIRST LAGREE STUDIO to Carrollwood! Come join us and see what being "addicted to the shakes" is all about.   We offer a boutique fitness studio experience featuring 13 Mega Pros in a beautifully renovated atmosphere  come see why everyone's talking about it! Please RSVP via the form on our Instagram so we know you're coming. @dinamik_lagree_studios Founding Members: pick up your swag bags at the event. Not a Founding Member yet? This is your last chance   founding memberships end Nov 10 at the Grand Opening. Can't wait to celebrate with you!
X-ALT-DESC;FMTTYPE=text/html:<!--StartFragment--><span style="font-size:18px\;"><span style="font-family:arial\;">We&rsquo\;re officially opening! &#127881\; Join us for the Grand Opening &amp\; Ribbon Cutting at D&#299\;&#39\; namik Lagree Studios. We are thrilled to bring the FIRST LAGREE STUDIO to Carrollwood! Come join us and see what being &ldquo\;addicted to the shakes&rdquo\; is all about. &#128170\; We offer a boutique fitness studio experience featuring 13 Mega Pros in a beautifully renovated atmosphere&mdash\; come see why everyone&rsquo\;s talking about it! Please RSVP via the form on our Instagram so we know you&rsquo\;re coming. @dinamik_lagree_studios Founding Members: pick up your swag bags at the event. Not a Founding Member yet? This is your last chance &mdash\; founding memberships end Nov 10 at the Grand Opening. Can&rsquo\;t wait to celebrate with you! &#128420\;</span></span><br />\n<!--EndFragment-->
LOCATION:Di namik Lagree Studios 11740 N. Dale Mabry Hwy Tampa\, FL 33618
UID:e.9368.790283
SEQUENCE:3
DTSTAMP:20260420T055435Z
URL:http://usecabafl.memberzone.com/events/details/caba-grand-opening-and-ribbon-cutting-at-di-namik-lagree-studios-790283
END:VEVENT

END:VCALENDAR
