BEGIN:VCALENDAR
VERSION:2.0
PRODID:-//ChamberMaster//Event Calendar 2.0//EN
METHOD:PUBLISH
X-PUBLISHED-TTL:P3D
REFRESH-INTERVAL:P3D
CALSCALE:GREGORIAN
BEGIN:VEVENT
DTSTART:20250314T203000Z
DTEND:20250314T220000Z
X-MICROSOFT-CDO-ALLDAYEVENT:FALSE
SUMMARY:CABA Grand Opening and Ribbon Cutting at Dental Office of Tampa
DESCRIPTION:Help us celebrate with Dr. Sanjie Jackson at their grand opening ribbon cutting!  CABA brings the ribbon and the scissors\, and we encourage you to bring yourselves and some guests to our FREE TO THE PUBLIC event.
X-ALT-DESC;FMTTYPE=text/html:<span style="font-size: 18px\;">Help us celebrate with Dr. Sanjie Jackson at their grand opening ribbon cutting!&nbsp\; CABA brings the ribbon and the scissors\,&nbsp\;and we encourage you to bring yourselves and some guests to our FREE TO THE PUBLIC event.&nbsp\;</span><br />\n&nbsp\;
LOCATION:Dental Office of Tampa 3955 Moran Road\, Suite 101 Tampa\, FL 33618
UID:e.9368.790130
SEQUENCE:3
DTSTAMP:20260420T231201Z
URL:http://usecabafl.memberzone.com/events/details/caba-grand-opening-and-ribbon-cutting-at-dental-office-of-tampa-790130
END:VEVENT

END:VCALENDAR
