BEGIN:VCALENDAR
VERSION:2.0
PRODID:-//ChamberMaster//Event Calendar 2.0//EN
METHOD:PUBLISH
X-PUBLISHED-TTL:P3D
REFRESH-INTERVAL:P3D
CALSCALE:GREGORIAN
BEGIN:VEVENT
DTSTART:20240911T160000Z
DTEND:20240911T173000Z
X-MICROSOFT-CDO-ALLDAYEVENT:FALSE
SUMMARY:CABA Golf Committee Meeting at Brass Tap Carrollwood
DESCRIPTION:With the tournament being just weeks away we will be discussing the current status of sponsors and golfers\, finalizing the volunteer shifts/sign ups\, putting in orders\, and finalizing our marketing strategies.
X-ALT-DESC;FMTTYPE=text/html:<div><span style="font-size:18px\;"><span style="font-family:arial\;"><span style="color: rgb(36\, 36\, 36)\; background-color: rgb(255\, 255\, 255)\;">With the tournament being just weeks away we will be discussing the current status of sponsors and golfers\, finalizing the volunteer shifts/sign ups\, putting in orders\, and finalizing our marketing strategies.</span></span></span></div>\n
LOCATION:The Brass Tap 10047 N. Dale Mabry Hwy. Tampa\, FL 33618
UID:e.9368.790063
SEQUENCE:3
DTSTAMP:20260421T112000Z
URL:http://usecabafl.memberzone.com/events/details/caba-golf-committee-meeting-at-brass-tap-carrollwood-790063
END:VEVENT

END:VCALENDAR
