BEGIN:VCALENDAR
VERSION:2.0
PRODID:-//ChamberMaster//Event Calendar 2.0//EN
METHOD:PUBLISH
X-PUBLISHED-TTL:P3D
REFRESH-INTERVAL:P3D
CALSCALE:GREGORIAN
BEGIN:VEVENT
DTSTART:20240918T160000Z
DTEND:20240918T174500Z
X-MICROSOFT-CDO-ALLDAYEVENT:FALSE
SUMMARY:CABA Golf Committee Meeting at Abby's Health & Nutrition
DESCRIPTION:Come join us if you are interested in getting involved helping with the CABA annual golf classic!
X-ALT-DESC;FMTTYPE=text/html:<div><span style="font-size:18px\;"><span style="font-family:arial\;"><span style="color: rgb(36\, 36\, 36)\; background-color: rgb(255\, 255\, 255)\;">Come join us if you are interested in getting involved helping with&nbsp\;the CABA annual golf classic!</span></span></span></div>\n
LOCATION:Abby's Health & Nutrition 14374 N. Dale Mabry Hwy. Tampa\, FL 33618
UID:e.9368.790077
SEQUENCE:3
DTSTAMP:20260421T130004Z
URL:http://usecabafl.memberzone.com/events/details/caba-golf-committee-meeting-at-abby-s-health-nutrition-790077
END:VEVENT

END:VCALENDAR
