BEGIN:VCALENDAR
VERSION:2.0
PRODID:-//ChamberMaster//Event Calendar 2.0//EN
METHOD:PUBLISH
X-PUBLISHED-TTL:P3D
REFRESH-INTERVAL:P3D
CALSCALE:GREGORIAN
BEGIN:VEVENT
DTSTART:20240522T113000Z
DTEND:20240522T130000Z
X-MICROSOFT-CDO-ALLDAYEVENT:FALSE
SUMMARY:CABA Coffee with Spinks Law Firm at Arbor Terrace Citrus Park
DESCRIPTION:Don't miss the CABA Coffee networking with hosts\, Tina and Ed Spinks when CABA members and guests will engage in B2B networking on Wednesday.  Thank you to our cohosts Katie Beattie of Arbor Terrace Citrus Park and Carole Brennan of the Alzheimer's Association.
X-ALT-DESC;FMTTYPE=text/html:<span font-size:="" helvetica="" id="docs-internal-guid-1a8d6c47-7fff-a699-9b34-489b38512d9f" segoe="" style="box-sizing: border-box\; outline: 0px\; font-family: Poppins\, sans-serif\; font-size: 18px\; background-color: rgb(255\, 255\, 255)\; color: rgb(50\, 49\, 48)\;" ui="" web="" west=""><span style="box-sizing: border-box\; outline: 0px\; color: rgb(0\, 0\, 0)\; background-color: transparent\; font-variant-numeric: normal\; font-variant-east-asian: normal\; vertical-align: baseline\; white-space-collapse: preserve\;">Don&rsquo\;t miss the CABA Coffee networking</span></span><span background-color:="" color:="" font-size:="" font-variant-east-asian:="" font-variant-numeric:="" helvetica="" segoe="" style="box-sizing: border-box\; color: rgb(51\, 51\, 51)\; font-family: Poppins\, sans-serif\; font-size: 18px\; background-color: rgb(255\, 255\, 255)\;" ui="" vertical-align:="" web="" west="" white-space:="">&nbsp\;with hosts\, Tina and Ed Spinks when CABA members and guests will engage in B2B networking on&nbsp\;</span><span font-size:="" helvetica="" segoe="" style="box-sizing: border-box\; font-family: Poppins\, sans-serif\; font-size: 18px\; background-color: rgb(255\, 255\, 255)\; color: rgb(50\, 49\, 48)\;" ui="" web="" west="">Wednesday.&nbsp\; Thank you to our cohosts Katie Beattie of <a href="https://business.usecaba.com/list/member/arbor-terrace-citrus-park-tampa-38902032">Arbor Terrace Citrus Park</a> and Carole Brennan of the Alzheimer&#39\;s Association.</span>
LOCATION:LOCATION FOR THIS EVENT: Arbor Terrace Citrus Park 13810 Sheldon Road Tampa\, FL 33626
UID:e.9368.789965
SEQUENCE:3
DTSTAMP:20260421T210131Z
URL:http://usecabafl.memberzone.com/events/details/caba-coffee-with-spinks-law-firm-at-arbor-terrace-citrus-park-789965
END:VEVENT

END:VCALENDAR
