BEGIN:VCALENDAR
VERSION:2.0
PRODID:-//ChamberMaster//Event Calendar 2.0//EN
METHOD:PUBLISH
X-PUBLISHED-TTL:P3D
REFRESH-INTERVAL:P3D
CALSCALE:GREGORIAN
BEGIN:VEVENT
DTSTART:20220608T113000Z
DTEND:20220608T130000Z
X-MICROSOFT-CDO-ALLDAYEVENT:FALSE
SUMMARY:CABA Coffee & Ribbon Cutting at Quick Hit Fitness
DESCRIPTION:Don't miss the FREE CABA Coffee networking from 7:30 am - 9:00 am. CABA members will engage in B2B networking with members and guests on Wednesday while celebrating a Quick Hit Fitness Ribbon Cutting!\n\n\n\nThank you to our co-hosts:\n\nSignature Workspace\n\nMixed Nuts Counseling\n\nCarrollwood Copy Center\n\nA. Leake Accounting\, Inc.
X-ALT-DESC;FMTTYPE=text/html:<p><span style="font-size:18px\;"><span font-size:="" helvetica="" id="docs-internal-guid-1a8d6c47-7fff-a699-9b34-489b38512d9f" segoe="" ui="" web="" west=""><span style="background-color: transparent\; font-variant-numeric: normal\; font-variant-east-asian: normal\; vertical-align: baseline\; white-space: pre-wrap\;">Don&rsquo\;t miss the FREE CABA Coffee networking</span></span><span background-color:="" color:="" font-size:="" font-variant-east-asian:="" font-variant-numeric:="" helvetica="" segoe="" ui="" vertical-align:="" web="" west="" white-space:=""> from 7:30 am - 9:00 am. CABA members will engage in B2B networking with members and guests on </span><span font-size:="" helvetica="" segoe="" ui="" web="" west="">Wednesday while celebrating a Quick Hit Fitness Ribbon Cutting!<br />\n<br />\nThank you to our co-hosts:<br />\nSignature Workspace<br />\nMixed Nuts Counseling<br />\nCarrollwood Copy Center<br />\nA.&nbsp\;Leake Accounting\, Inc.</span></span></p>\n
LOCATION:Quick Hit Fitness 14502 North Dale Mabry Highway\, Suite 308 Tampa\, Florida 33618
UID:e.9368.789779
SEQUENCE:3
DTSTAMP:20260423T210303Z
URL:http://usecabafl.memberzone.com/events/details/caba-coffee-ribbon-cutting-at-quick-hit-fitness-789779
END:VEVENT

END:VCALENDAR
