BEGIN:VCALENDAR
VERSION:2.0
PRODID:-//ChamberMaster//Event Calendar 2.0//EN
METHOD:PUBLISH
X-PUBLISHED-TTL:P3D
REFRESH-INTERVAL:P3D
CALSCALE:GREGORIAN
BEGIN:VEVENT
DTSTART:20251210T123000Z
DTEND:20251210T140000Z
X-MICROSOFT-CDO-ALLDAYEVENT:FALSE
SUMMARY:CABA Coffee by Southwestern Consulting at PSI TV Network
DESCRIPTION:Join host\, Omar Iribe (Southwestern Consulting) at this CABA coffee networking when CABA members will engage in B2B networking with guests over snacks and coffee.  Guests are welcome to visit a CABA event twice before being asked to join.  Join us and learn why we say\, "CABA is the best business address in Tampa Bay."\n\nThank you to our cohosts Dr. Trudy Beerman (PSI TV Network)\, Dr. Michael Vega\, DC (Move Forward Chiropractic)\, Jonathan Shupe (Shupe Lending Group)\, and Daniella Gonzalez (Don Julio's Cafe).
X-ALT-DESC;FMTTYPE=text/html:<span style="font-size: 18px\; font-family: Arial\; white-space: pre-wrap\;">Join host\, Omar Iribe (Southwestern Consulting) at this CABA coffee networking </span><span style="font-size: 18px\; font-family: Arial\; white-space: pre-wrap\;">when CABA members will engage in B2B networking with </span><span style="font-size: 18px\; font-family: Arial\; white-space: pre-wrap\;">guests over snacks and coffee.&nbsp\; Guests are welcome to visit a CABA event twice before being asked to join.&nbsp\; Join us </span><span style="font-size: 18px\; font-family: Arial\; white-space: pre-wrap\;">and learn why we say\, <em>&quot\;CABA is the best business address in Tampa Bay.&quot\;</em><br />\nThank you to our cohosts Dr. Trudy Beerman (PSI TV Network)\, Dr. Michael Vega\, DC (Move Forward Chiropractic)\, Jonathan Shupe (Shupe Lending Group)\, and Daniella Gonzalez (Don Julio&#39\;s Cafe).</span><br />\n&nbsp\;
LOCATION:LOCATION IS AT: Southwestern Consulting 2801 W. Busch Blvd.\, Suite 200 Tampa\, FL 33618
UID:e.9368.790188
SEQUENCE:3
DTSTAMP:20260420T055234Z
URL:http://usecabafl.memberzone.com/events/details/caba-coffee-by-southwestern-consulting-at-psi-tv-network-790188
END:VEVENT

END:VCALENDAR
