BEGIN:VCALENDAR
VERSION:2.0
PRODID:-//ChamberMaster//Event Calendar 2.0//EN
METHOD:PUBLISH
X-PUBLISHED-TTL:P3D
REFRESH-INTERVAL:P3D
CALSCALE:GREGORIAN
BEGIN:VEVENT
DTSTART:20250402T113000Z
DTEND:20250402T130000Z
X-MICROSOFT-CDO-ALLDAYEVENT:FALSE
SUMMARY:CABA Coffee by Owl Be There at Grain and Berry
DESCRIPTION:Come join host\, Lynda Krueger at this CABA coffee networking!  This is a great way to start your day making new connections and enjoy the coffee and refreshments provided.\n\nThank you to our cohosts\, Rochelle Abrahante (Sodalis Senior Care)\, Mary-Ann Hamilton (Cardinal Home Care)\, Tina Spinks (Florida Elder Law & Legacy Planning)\, and Paul Rohr (Grain and Berry).
X-ALT-DESC;FMTTYPE=text/html:<span style="font-family:arial\;"><span style="font-size:18px\;">Come join host\, Lynda Krueger at this CABA coffee networking!&nbsp\; This is a great way to start your day making new connections and enjoy the coffee and refreshments provided.<br />\nThank you to our cohosts\, Rochelle Abrahante (Sodalis Senior Care)\, Mary-Ann Hamilton (Cardinal Home Care)\, Tina Spinks (Florida Elder Law &amp\; Legacy Planning)\, and Paul Rohr (Grain and Berry).</span></span>
LOCATION:LOCATION IS AT: Grain and Berry 14308 N. Dale Mabry Hwy. Tampa\, FL 33618
UID:e.9368.790123
SEQUENCE:3
DTSTAMP:20260420T230006Z
URL:http://usecabafl.memberzone.com/events/details/caba-coffee-by-owl-be-there-at-grain-and-berry-790123
END:VEVENT

END:VCALENDAR
