BEGIN:VCALENDAR
VERSION:2.0
PRODID:-//ChamberMaster//Event Calendar 2.0//EN
METHOD:PUBLISH
X-PUBLISHED-TTL:P3D
REFRESH-INTERVAL:P3D
CALSCALE:GREGORIAN
BEGIN:VEVENT
DTSTART:20260401T113000Z
DTEND:20260401T130000Z
X-MICROSOFT-CDO-ALLDAYEVENT:FALSE
SUMMARY:CABA Coffee at The Little Gym
DESCRIPTION:Join host Lindsay Hendrix for CABA's coffee networking when CABA members will engage in B2B networking with guests over snacks and coffee.  Guests are welcome to visit a CABA event twice before being asked to join.  Join us and learn why we say\, "CABA is the best business address in Tampa Bay."\n\nThank you to our cohost Nathan Yi (BobaDex)\, Rob Cunningham with ADT Security\, Lisa Marie (Tropical Treats)\, and Viraj Amarasinghe (Mait It Viral Media & Tech).
X-ALT-DESC;FMTTYPE=text/html:<span style="font-size: 18px\; font-family: Arial\; white-space: pre-wrap\;">Join host Lindsay Hendrix for CABA&#39\;s coffee networking </span><span style="font-size: 18px\; font-family: Arial\; white-space: pre-wrap\;">when CABA members will engage in B2B networking with </span><span style="font-size: 18px\; font-family: Arial\; white-space: pre-wrap\;">guests over snacks and coffee.&nbsp\; Guests are welcome to visit a CABA event twice before being asked to join.&nbsp\; Join us </span><span style="font-size: 18px\; font-family: Arial\; white-space: pre-wrap\;">and learn why we say\, &quot\;CABA is the best business address in Tampa Bay.&quot\;<br />\nThank you to our cohost Nathan Yi (BobaDex)\, Rob Cunningham with ADT Security\, Lisa Marie (Tropical Treats)\, and Viraj Amarasinghe (Mait It Viral Media &amp\; Tech).</span>
LOCATION:The Little Gym 5330 Ehrlich Road\, Suite 130 Tampa\, FL 33624
UID:e.9368.790338
SEQUENCE:3
DTSTAMP:20260419T222446Z
URL:http://usecabafl.memberzone.com/events/details/caba-coffee-at-the-little-gym-790338
END:VEVENT

END:VCALENDAR
