BEGIN:VCALENDAR
VERSION:2.0
PRODID:-//ChamberMaster//Event Calendar 2.0//EN
METHOD:PUBLISH
X-PUBLISHED-TTL:P3D
REFRESH-INTERVAL:P3D
CALSCALE:GREGORIAN
BEGIN:VEVENT
DTSTART:20251112T123000Z
DTEND:20251112T140000Z
X-MICROSOFT-CDO-ALLDAYEVENT:FALSE
SUMMARY:CABA Coffee at The Bank of Tampa
DESCRIPTION:Join host\, Lee Pierson at CABA's coffee networking! CABA members will engage in B2B networking with guests over snacks and coffee.  Join us and learn why we say\, "CABA is the best business address in Tampa Bay."\n\nThank you to our cohosts Dr. Tommy Lane\, DC (Lane Family Wellness)\, Dr. Michael Diez (General and Cosmetic Dentistry of Tampa)\, Jeff Fox (FoxMarketPlace)\, and Jonathan Simkins (Insect IQ).
X-ALT-DESC;FMTTYPE=text/html:<span style="box-sizing: border-box\; color: rgb(51\, 51\, 51)\; white-space-collapse: preserve\; background-color: rgb(255\, 255\, 255)\; font-size: 18px\; font-family: Arial\;">Join host\, Lee Pierson at CABA&#39\;s coffee networking! </span><span style="box-sizing: border-box\; outline: 0px\; color: rgb(51\, 51\, 51)\; white-space-collapse: preserve\; background-color: rgb(255\, 255\, 255)\; font-size: 18px\; font-family: Arial\;">CABA members will engage in B2B networking with </span><span style="box-sizing: border-box\; color: rgb(51\, 51\, 51)\; white-space-collapse: preserve\; background-color: rgb(255\, 255\, 255)\; font-size: 18px\; font-family: Arial\;">guests over snacks and coffee.&nbsp\; Join us </span><font face="Arial" style="box-sizing: border-box\; color: rgb(51\, 51\, 51)\; font-size: 16px\; background-color: rgb(255\, 255\, 255)\;"><span style="box-sizing: border-box\; font-size: 18px\; white-space-collapse: preserve\;">and learn why we say\, </span></font><em style="box-sizing: border-box\; color: rgb(51\, 51\, 51)\; white-space-collapse: preserve\; background-color: rgb(255\, 255\, 255)\; font-family: Arial\; font-size: 18px\;">&quot\;CABA is the best business address in Tampa Bay.&quot\;</em><br />\n<span style="font-family:arial\;"><span style="font-size:18px\;">Thank you to our cohosts Dr. Tommy Lane\, DC (Lane Family Wellness)\, Dr. Michael Diez (General and Cosmetic Dentistry of Tampa)\, Jeff Fox (FoxMarketPlace)\, and Jonathan Simkins (Insect IQ).</span></span><br />\n<br />\n&nbsp\;
LOCATION:The Bank of Tampa 13868 N. Dale Mabry Hwy. Tampa\, FL 33618
UID:e.9368.790145
SEQUENCE:3
DTSTAMP:20260420T072506Z
URL:http://usecabafl.memberzone.com/events/details/caba-coffee-at-the-bank-of-tampa-790145
END:VEVENT

END:VCALENDAR
