BEGIN:VCALENDAR
VERSION:2.0
PRODID:-//ChamberMaster//Event Calendar 2.0//EN
METHOD:PUBLISH
X-PUBLISHED-TTL:P3D
REFRESH-INTERVAL:P3D
CALSCALE:GREGORIAN
BEGIN:VEVENT
DTSTART:20250219T123000Z
DTEND:20250219T140000Z
X-MICROSOFT-CDO-ALLDAYEVENT:FALSE
SUMMARY:CABA Coffee at The Aesthetics Lounge and Spa Tampa
DESCRIPTION:Join host\, Bethany Brown\, APRN MPH at CABA's coffee networking! CABA members will engage in B2B networking with guests over snacks and coffee.  Join us and learn why we say\, "CABA is the best business address in Tampa Bay."\n\n\n\nThank you to our cohosts Lizzie Walker Neal (Brightstar Chiropractic)\, Jason Sulisufay (Suli & Martinez Attorneys at Law)\, Dave and Katy Jeffrey (Jeffrey Digital Ads)\, and Jonathan Simkins of (Insect IQ).
X-ALT-DESC;FMTTYPE=text/html:<span style="box-sizing: border-box\; color: rgb(51\, 51\, 51)\; white-space-collapse: preserve\; background-color: rgb(255\, 255\, 255)\; font-size: 18px\; font-family: Arial\;">Join host\, Bethany Brown\, APRN MPH at CABA&#39\;s coffee networking! </span><span style="box-sizing: border-box\; outline: 0px\; color: rgb(51\, 51\, 51)\; white-space-collapse: preserve\; background-color: rgb(255\, 255\, 255)\; font-size: 18px\; font-family: Arial\;">CABA members will engage in B2B networking with </span><span style="box-sizing: border-box\; color: rgb(51\, 51\, 51)\; white-space-collapse: preserve\; background-color: rgb(255\, 255\, 255)\; font-size: 18px\; font-family: Arial\;">guests over snacks and coffee.&nbsp\; Join us </span><font face="Arial" style="box-sizing: border-box\; color: rgb(51\, 51\, 51)\; font-size: 16px\; background-color: rgb(255\, 255\, 255)\;"><span style="box-sizing: border-box\; font-size: 18px\; white-space-collapse: preserve\;">and learn why we say\, </span></font><em style="box-sizing: border-box\; color: rgb(51\, 51\, 51)\; white-space-collapse: preserve\; background-color: rgb(255\, 255\, 255)\; font-family: Arial\; font-size: 18px\;">&quot\;CABA is the best business address in Tampa Bay.&quot\;</em><br />\n<br />\n<em style="box-sizing: border-box\; color: rgb(51\, 51\, 51)\; white-space-collapse: preserve\; background-color: rgb(255\, 255\, 255)\; font-family: Arial\; font-size: 18px\;">Thank you to our cohosts Lizzie Walker Neal (<a href="https://business.usecaba.com/list/member/brightstar-chiropractic-23847918">Brightstar Chiropractic</a>)\, Jason Sulisufay (Suli &amp\; Martinez Attorneys at Law)\, Dave and Katy Jeffrey (Jeffrey Digital Ads)\, and Jonathan Simkins of (<a href="https://business.usecaba.com/list/member/insect-iq-38901819">Insect IQ</a>).</em>
LOCATION:The Aesthetics Lounge and Spa Tampa 13801 N. Dale Mabry Hwy. Tampa\, FL 33618
UID:e.9368.790109
SEQUENCE:3
DTSTAMP:20260421T023100Z
URL:http://usecabafl.memberzone.com/events/details/caba-coffee-at-the-aesthetics-lounge-and-spa-tampa-02-19-2025-790109
END:VEVENT

END:VCALENDAR
