BEGIN:VCALENDAR
VERSION:2.0
PRODID:-//ChamberMaster//Event Calendar 2.0//EN
METHOD:PUBLISH
X-PUBLISHED-TTL:P3D
REFRESH-INTERVAL:P3D
CALSCALE:GREGORIAN
BEGIN:VEVENT
DTSTART:20240717T113000Z
DTEND:20240717T130000Z
X-MICROSOFT-CDO-ALLDAYEVENT:FALSE
SUMMARY:CABA Coffee at Sam's Club
DESCRIPTION:Don't miss the CABA Coffee networking with hosts Angela DiBlasi when CABA members and guests will engage in B2B networking on Wednesday.\n\n\n\nIf you arrive before 8:00 a.m.\, please enter through the exit door.  If they are closed when you arrive\, just slide them open.  We will meet in the cafe to enjoy some wonderful hot coffee\, OJ\, breakfast cakes\, and muffins!
X-ALT-DESC;FMTTYPE=text/html:<span font-size:="" helvetica="" id="docs-internal-guid-1a8d6c47-7fff-a699-9b34-489b38512d9f" segoe="" style="box-sizing: border-box\; outline: 0px\; font-family: Poppins\, sans-serif\; font-size: 18px\; background-color: rgb(255\, 255\, 255)\; color: rgb(50\, 49\, 48)\;" ui="" web="" west=""><span style="box-sizing: border-box\; outline: 0px\; color: rgb(0\, 0\, 0)\; background-color: transparent\; font-variant-numeric: normal\; font-variant-east-asian: normal\; vertical-align: baseline\; white-space-collapse: preserve\;">Don&rsquo\;t miss the CABA Coffee networking</span></span><span background-color:="" color:="" font-size:="" font-variant-east-asian:="" font-variant-numeric:="" helvetica="" segoe="" style="box-sizing: border-box\; color: rgb(51\, 51\, 51)\; font-family: Poppins\, sans-serif\; font-size: 18px\; background-color: rgb(255\, 255\, 255)\;" ui="" vertical-align:="" web="" west="" white-space:="">&nbsp\;with hosts Angela DiBlasi when CABA members and guests will engage in B2B networking on&nbsp\;</span><span font-size:="" helvetica="" segoe="" style="box-sizing: border-box\; font-family: Poppins\, sans-serif\; font-size: 18px\; background-color: rgb(255\, 255\, 255)\; color: rgb(50\, 49\, 48)\;" ui="" web="" west="">Wednesday.<br />\n<br />\nIf you arrive before 8:00 a.m.\, please enter through the exit door.&nbsp\; If they are closed when you arrive\, just slide them open.&nbsp\; We will meet in the cafe to enjoy some wonderful hot coffee\, OJ\, breakfast cakes\, and muffins!</span>
LOCATION:Sam's Club 15835 N. Dale Mabry Hwy. Tampa\, FL 33618
UID:e.9368.789994
SEQUENCE:3
DTSTAMP:20260421T173613Z
URL:http://usecabafl.memberzone.com/events/details/caba-coffee-at-sam-s-club-789994
END:VEVENT

END:VCALENDAR
