BEGIN:VCALENDAR
VERSION:2.0
PRODID:-//ChamberMaster//Event Calendar 2.0//EN
METHOD:PUBLISH
X-PUBLISHED-TTL:P3D
REFRESH-INTERVAL:P3D
CALSCALE:GREGORIAN
BEGIN:VEVENT
DTSTART:20220824T113000Z
DTEND:20220824T130000Z
X-MICROSOFT-CDO-ALLDAYEVENT:FALSE
SUMMARY:CABA Coffee at Rusticlove Vintage and More
DESCRIPTION:Don't miss the FREE CABA Coffee networking from 7:30 a.m. - 9:00 a.m. CABA members will engage in B2B networking with members and guests on Wednesday.\n\n\n\nThank you to our Co-Hosts:\n\nADT Security\n\nBliss CBD & Wellness Market\n\nHotworx\n\nKekes Breakfast Cafe
X-ALT-DESC;FMTTYPE=text/html:<p><span style="font-size:18px\;"><span font-size:="" helvetica="" id="docs-internal-guid-1a8d6c47-7fff-a699-9b34-489b38512d9f" segoe="" style="color: rgb(50\, 49\, 48)\; font-family: " ui="" web="" west=""><span style="color: rgb(0\, 0\, 0)\; background-color: transparent\; font-variant-numeric: normal\; font-variant-east-asian: normal\; vertical-align: baseline\; white-space: pre-wrap\;">Don&rsquo\;t miss the FREE CABA Coffee networking</span></span><span background-color:="" color:="" font-size:="" font-variant-east-asian:="" font-variant-numeric:="" helvetica="" segoe="" ui="" vertical-align:="" web="" west="" white-space:=""> from 7:30 a.m.&nbsp\;- 9:00 a.m. CABA members will engage in B2B networking with members and guests on </span><span font-size:="" helvetica="" segoe="" style="color: rgb(50\, 49\, 48)\; font-family: " ui="" web="" west="">Wednesday.<br />\n<br />\nThank you to our Co-Hosts:<br />\nADT Security<br />\nBliss CBD &amp\; Wellness Market</span></span><br />\n<span style="font-size:18px\;"><span font-size:="" helvetica="" segoe="" style="color: rgb(50\, 49\, 48)\; font-family: " ui="" web="" west="">Hotworx<br />\nKekes Breakfast Cafe</span></span><br />\n&nbsp\;</p>\n
LOCATION:Rusticlove Vintage and More 13717 N. Dale Mabry Highway Tampa\, FL 33618
UID:e.9368.789789
SEQUENCE:3
DTSTAMP:20260423T191115Z
URL:http://usecabafl.memberzone.com/events/details/caba-coffee-at-rusticlove-vintage-and-more-789789
END:VEVENT

END:VCALENDAR
