BEGIN:VCALENDAR
VERSION:2.0
PRODID:-//ChamberMaster//Event Calendar 2.0//EN
METHOD:PUBLISH
X-PUBLISHED-TTL:P3D
REFRESH-INTERVAL:P3D
CALSCALE:GREGORIAN
BEGIN:VEVENT
DTSTART:20230719T113000Z
DTEND:20230719T130000Z
X-MICROSOFT-CDO-ALLDAYEVENT:FALSE
SUMMARY:CABA Coffee at Perfect Choice Flooring
DESCRIPTION:Don't miss the free CABA Coffee networking when CABA members will engage in B2B networking with guests over snacks and coffee.  Guests are welcome to visit a CABA event twice before being asked to join.  Join us and learn why we say\, "CABA is the best business address in Tampa Bay."\n\n\n\nThank you to our host\, Johnny Rivera and to the co-hosts Alex Wadsworth with Pickle Man\, Inc. and Lauren Hanan with ReBuilt Meals.
X-ALT-DESC;FMTTYPE=text/html:<p><span style="font-size:18px\;"><span style="font-family: Arial\; white-space: pre-wrap\;">Don&rsquo\;t miss the free CABA Coffee networking </span><span style="font-family: Arial\; white-space: pre-wrap\;">when CABA members will engage in B2B networking with </span><span style="font-family: Arial\; white-space: pre-wrap\;">guests over snacks and coffee.&nbsp\; Guests are welcome to visit a CABA event twice before being asked to join.&nbsp\; Join us </span><span style="font-family: Arial\; white-space: pre-wrap\;">and learn why we say\, <em>&quot\;CABA is the best business address in Tampa Bay.&quot\;</em></span><br />\n<br />\n<span font-size:="" helvetica="" segoe="" style="color: rgb(50\, 49\, 48)\; font-family: " ui="" web="" west="">Thank you to our host\, Johnny Rivera and to the co-hosts Alex Wadsworth with <a href="https://business.usecaba.com/list/member/pickle-man-inc-38901989">Pickle Man\, Inc.</a>&nbsp\;and Lauren Hanan with <a href="https://business.usecaba.com/list/member/rebuilt-meals-38901997">ReBuilt Meals</a>.</span></span></p>\n
LOCATION:Perfect Choice Flooring 922 E 124th Avenue Tampa\, FL 33612
UID:e.9368.789898
SEQUENCE:3
DTSTAMP:20260422T195600Z
URL:http://usecabafl.memberzone.com/events/details/caba-coffee-at-perfect-choice-flooring-789898
END:VEVENT

END:VCALENDAR
