BEGIN:VCALENDAR
VERSION:2.0
PRODID:-//ChamberMaster//Event Calendar 2.0//EN
METHOD:PUBLISH
X-PUBLISHED-TTL:P3D
REFRESH-INTERVAL:P3D
CALSCALE:GREGORIAN
BEGIN:VEVENT
DTSTART:20230802T113000Z
DTEND:20230802T130000Z
X-MICROSOFT-CDO-ALLDAYEVENT:FALSE
SUMMARY:CABA Coffee at Options Medical Weight Loss
DESCRIPTION:Join us at CABA's coffee networking when CABA members will engage in B2B networking with guests over snacks and coffee.  Guests are welcome to visit a CABA event twice before being asked to join.  Join us and learn why we say\, "CABA is the best business address in Tampa Bay."\n\nThank you to our host\, Jennifer Lutz and our co-host\, Mike Hancock of Hancock Injury Attorneys.
X-ALT-DESC;FMTTYPE=text/html:<span style="font-size: 18px\; font-family: Arial\; white-space: pre-wrap\;">Join us at CABA&#39\;s coffee networking </span><span style="font-size: 18px\; font-family: Arial\; white-space: pre-wrap\;">when CABA members will engage in B2B networking with </span><span style="font-size: 18px\; font-family: Arial\; white-space: pre-wrap\;">guests over snacks and coffee.&nbsp\; Guests are welcome to visit a CABA event twice before being asked to join.&nbsp\; Join us </span><span style="font-size: 18px\; font-family: Arial\; white-space: pre-wrap\;">and learn why we say\, <em>&quot\;CABA is the best business address in Tampa Bay.&quot\;</em></span><br />\n<span style="font-family:arial\;"><big><span font-size:="" helvetica="" segoe="" style="box-sizing: border-box\; margin: 0px\; padding: 0px\; border: 0px\; outline: 0px\; font-size: 18px\; text-size-adjust: 100%\; vertical-align: baseline\; background-image: initial\; background-position: initial\; background-size: initial\; background-repeat: initial\; background-attachment: initial\; background-origin: initial\; background-clip: initial\; font-weight: 700\; color: rgb(50\, 49\, 48)\; transition: none 0s ease 0s !important\;" ui="" web="" west="">Thank you to our host\, Jennifer Lutz and our co-host\, Mike Hancock of&nbsp\;<a href="https://business.usecaba.com/list/member/hancock-injury-attorneys-7715147">Hancock Injury Attorneys</a>.</span></big></span>
LOCATION:Options Medical Weight Loss 13128 N. Dale Mabry Hwy. Tampa\, FL 33618
UID:e.9368.789916
SEQUENCE:3
DTSTAMP:20260422T175400Z
URL:http://usecabafl.memberzone.com/events/details/caba-coffee-at-options-medical-weight-loss-789916
END:VEVENT

END:VCALENDAR
