BEGIN:VCALENDAR
VERSION:2.0
PRODID:-//ChamberMaster//Event Calendar 2.0//EN
METHOD:PUBLISH
X-PUBLISHED-TTL:P3D
REFRESH-INTERVAL:P3D
CALSCALE:GREGORIAN
BEGIN:VEVENT
DTSTART:20210203T123000Z
DTEND:20210203T140000Z
X-MICROSOFT-CDO-ALLDAYEVENT:FALSE
SUMMARY:CABA Coffee at Oasis Pregnancy Center
DESCRIPTION:Don't miss the FREE CABA Coffee networking at Oasis Pregnancy Center from 7:30am - 9:00am. CABA members will engage in B2B networking with members and guests on Wednesday\, February 3rd\, 2021. \n\n\n\nAnd if you're a football fan\, be sure to wear your Bucs gear to get in the Super Bowl spirit!
X-ALT-DESC;FMTTYPE=text/html:<span id="docs-internal-guid-1a8d6c47-7fff-a699-9b34-489b38512d9f" style="color: rgb(50\, 49\, 48)\; font-family: &quot\;Segoe UI&quot\;\, &quot\;Segoe UI Web (West European)&quot\;\, &quot\;Segoe UI&quot\;\, -apple-system\, BlinkMacSystemFont\, Roboto\, &quot\;Helvetica Neue&quot\;\, sans-serif\; font-size: 18px\;"><span style="color: rgb(0\, 0\, 0)\; background-color: transparent\; font-variant-numeric: normal\; font-variant-east-asian: normal\; vertical-align: baseline\; white-space: pre-wrap\;">Don&rsquo\;t miss the FREE CABA Coffee networking at </span></span><span style="color: rgb(50\, 49\, 48)\; font-family: &quot\;Segoe UI&quot\;\, &quot\;Segoe UI Web (West European)&quot\;\, &quot\;Segoe UI&quot\;\, -apple-system\, BlinkMacSystemFont\, Roboto\, &quot\;Helvetica Neue&quot\;\, sans-serif\; font-size: 18px\;">Oasis Pregnancy Center</span><span style="font-family: &quot\;Segoe UI&quot\;\, &quot\;Segoe UI Web (West European)&quot\;\, &quot\;Segoe UI&quot\;\, -apple-system\, BlinkMacSystemFont\, Roboto\, &quot\;Helvetica Neue&quot\;\, sans-serif\; font-size: 18px\; font-variant-numeric: normal\; font-variant-east-asian: normal\; background-color: transparent\; color: rgb(0\, 0\, 0)\; vertical-align: baseline\; white-space: pre-wrap\;"> from 7:30am - 9:00am. CABA members will engage in B2B networking with members and guests on </span><span style="color: rgb(50\, 49\, 48)\; font-family: &quot\;Segoe UI&quot\;\, &quot\;Segoe UI Web (West European)&quot\;\, &quot\;Segoe UI&quot\;\, -apple-system\, BlinkMacSystemFont\, Roboto\, &quot\;Helvetica Neue&quot\;\, sans-serif\; font-size: 18px\;">Wednesday\, February 3rd\, 2021.&nbsp\;<br />\n<br />\nAnd if you&#39\;re a football fan\, be sure to wear your Bucs gear to get in the Super Bowl spirit!&nbsp\;</span>
LOCATION:Copperstone Office Bldg. 3632 Land O Lakes Blvd. Suite 108 Land O Lakes\, FL 34639 The CABA Coffee will be held in the large conference room just inside the main entrance to the right.
UID:e.9368.789098
SEQUENCE:3
DTSTAMP:20260425T041435Z
URL:http://usecabafl.memberzone.com/events/details/caba-coffee-at-oasis-pregnancy-center-789098
END:VEVENT

END:VCALENDAR
