BEGIN:VCALENDAR
VERSION:2.0
PRODID:-//ChamberMaster//Event Calendar 2.0//EN
METHOD:PUBLISH
X-PUBLISHED-TTL:P3D
REFRESH-INTERVAL:P3D
CALSCALE:GREGORIAN
BEGIN:VEVENT
DTSTART:20220420T113000Z
DTEND:20220420T130000Z
X-MICROSOFT-CDO-ALLDAYEVENT:FALSE
SUMMARY:CABA Coffee at Mixed Nuts Counseling
DESCRIPTION:Don't miss the FREE CABA Coffee networking from 7:30am - 9:00am. CABA members will engage in B2B networking with members and guests on Wednesday.\n\n\n\nThank you to our co-host:\n\nSecurity National Mortgage\n\nJohn Erb's Service Center\n\nCasper's Company
X-ALT-DESC;FMTTYPE=text/html:<p><span style="font-size:18px\;"><span font-size:="" helvetica="" id="docs-internal-guid-1a8d6c47-7fff-a699-9b34-489b38512d9f" segoe="" style="color: rgb(50\, 49\, 48)\; font-family: " ui="" web="" west=""><span style="color: rgb(0\, 0\, 0)\; background-color: transparent\; font-variant-numeric: normal\; font-variant-east-asian: normal\; vertical-align: baseline\; white-space: pre-wrap\;">Don&rsquo\;t miss the FREE CABA Coffee networking</span></span><span background-color:="" color:="" font-size:="" font-variant-east-asian:="" font-variant-numeric:="" helvetica="" segoe="" ui="" vertical-align:="" web="" west="" white-space:=""> from 7:30am - 9:00am. CABA members will engage in B2B networking with members and guests on </span><span font-size:="" helvetica="" segoe="" style="color: rgb(50\, 49\, 48)\; font-family: " ui="" web="" west="">Wednesday.<br />\n<br />\nThank you to our co-host:</span><br />\n<span style="font-family:arial\;"><span style="color: rgb(0\, 0\, 0)\; white-space: pre-wrap\;">Security National Mortgage</span></span></span><br />\n<span style="color: rgb(34\, 34\, 34)\; font-family: Arial\, Helvetica\, sans-serif\; font-size: small\;"><span style="font-size:18px\;">John Erb&#39\;s Service Center<br />\nCasper&#39\;s Company</span></span></p>\n
LOCATION:Mixed Nuts Counseling Services 2801 West Busch Blvd. Suite 200 Tampa\, FL 33618
UID:e.9368.789696
SEQUENCE:3
DTSTAMP:20260424T012413Z
URL:http://usecabafl.memberzone.com/events/details/caba-coffee-at-mixed-nuts-counseling-789696
END:VEVENT

END:VCALENDAR
