BEGIN:VCALENDAR
VERSION:2.0
PRODID:-//ChamberMaster//Event Calendar 2.0//EN
METHOD:PUBLISH
X-PUBLISHED-TTL:P3D
REFRESH-INTERVAL:P3D
CALSCALE:GREGORIAN
BEGIN:VEVENT
DTSTART:20250319T113000Z
DTEND:20250319T130000Z
X-MICROSOFT-CDO-ALLDAYEVENT:FALSE
SUMMARY:CABA Coffee at Freedom Fighters Financial Powered by Primerica
DESCRIPTION:It's hard to think of a better way to celebrate St. Patrick's Day than by indulging in a cup of Irish-y coffee goodness and networking where CABA members will engage in B2B networking with guests on Wednesday.  \n\n\n\nThank you to our cohosts Dr. Michael Vega Guzman (Move Forward Chiropractic)\, Sandie and Larry Mobley (Fully Promoted)\, Jason Sulisufay (Suli & Martinez Attorney at Law)\, and Jenny McMurray (Floor Coverings Unlimited).
X-ALT-DESC;FMTTYPE=text/html:<p><span font-size:="" helvetica="" id="docs-internal-guid-1a8d6c47-7fff-a699-9b34-489b38512d9f" segoe="" style="" ui="" web="" west=""><span style="background-color: transparent\; font-variant-numeric: normal\; font-variant-east-asian: normal\; vertical-align: baseline\;"><font color="#000000"><span style="font-size: 18px\; white-space: pre-wrap\;">It&#39\;s hard to think of a better way to celebrate St. Patrick&#39\;s Day than by indulging in a cup of Irish-y coffee goodness and networking</span></font></span></span><span background-color:="" color:="" font-size:="" font-variant-east-asian:="" font-variant-numeric:="" helvetica="" segoe="" style="font-size: 18px\;" ui="" vertical-align:="" web="" west="" white-space:="">&nbsp\;where CABA members will engage in B2B networking with guests on </span><span font-size:="" helvetica="" segoe="" style="font-size: 18px\; color: rgb(50\, 49\, 48)\;" ui="" web="" west="">Wednesday.&nbsp\;&nbsp\;<br />\n<br />\nThank you to our cohosts Dr. Michael Vega Guzman (Move Forward Chiropractic)\, Sandie and Larry Mobley (Fully Promoted)\, Jason Sulisufay (Suli &amp\; Martinez Attorney at Law)\, and Jenny McMurray (Floor Coverings Unlimited).</span></p>\n
LOCATION:Freedom Fighters Financial Powered by Primerica 10008 N. Dale Mabry Highway\, Suite 100 Tampa\, FL 33618
UID:e.9368.790124
SEQUENCE:3
DTSTAMP:20260421T005347Z
URL:http://usecabafl.memberzone.com/events/details/caba-coffee-at-freedom-fighters-financial-powered-by-primerica-790124
END:VEVENT

END:VCALENDAR
